BEGIN:VCALENDAR
VERSION:2.0
PRODID:-//NADI Felda Sungai Tiang - ECPv6.15.20//NONSGML v1.0//EN
CALSCALE:GREGORIAN
METHOD:PUBLISH
X-WR-CALNAME:NADI Felda Sungai Tiang
X-ORIGINAL-URL:https://feldasgtiang.nadi.my
X-WR-CALDESC:Events for NADI Felda Sungai Tiang
REFRESH-INTERVAL;VALUE=DURATION:PT1H
X-Robots-Tag:noindex
X-PUBLISHED-TTL:PT1H
BEGIN:VTIMEZONE
TZID:UTC
BEGIN:STANDARD
TZOFFSETFROM:+0000
TZOFFSETTO:+0000
TZNAME:UTC
DTSTART:20190101T000000
END:STANDARD
END:VTIMEZONE
BEGIN:VEVENT
DTSTART;TZID=UTC:20200829T090000
DTEND;TZID=UTC:20200829T130000
DTSTAMP:20260425T220812
CREATED:20200717T013844Z
LAST-MODIFIED:20200717T013844Z
UID:3952-1598691600-1598706000@feldasgtiang.nadi.my
SUMMARY:SAYANGI NEGARAKU BERSAMA PUSAT INTERNET KLUSTER PENDANG
DESCRIPTION:
URL:https://feldasgtiang.nadi.my/event/sayangi-negaraku-bersama-pusat-internet-kluster-pendang/
LOCATION:PUSAT INTERNET FELDA SUNGAI TIANG\, PUSAT INTERNET FELDA SUNGAI TIANG
CATEGORIES:DEFAULT
END:VEVENT
END:VCALENDAR