BEGIN:VCALENDAR
VERSION:2.0
PRODID:-//NADI Felda Sungai Tiang - ECPv6.15.20//NONSGML v1.0//EN
CALSCALE:GREGORIAN
METHOD:PUBLISH
X-WR-CALNAME:NADI Felda Sungai Tiang
X-ORIGINAL-URL:https://feldasgtiang.nadi.my
X-WR-CALDESC:Events for NADI Felda Sungai Tiang
REFRESH-INTERVAL;VALUE=DURATION:PT1H
X-Robots-Tag:noindex
X-PUBLISHED-TTL:PT1H
BEGIN:VTIMEZONE
TZID:UTC
BEGIN:STANDARD
TZOFFSETFROM:+0000
TZOFFSETTO:+0000
TZNAME:UTC
DTSTART:20190101T000000
END:STANDARD
END:VTIMEZONE
BEGIN:VEVENT
DTSTART;TZID=UTC:20201105T100000
DTEND;TZID=UTC:20201105T130000
DTSTAMP:20260426T103006
CREATED:20201029T234740Z
LAST-MODIFIED:20201029T234740Z
UID:3976-1604570400-1604581200@feldasgtiang.nadi.my
SUMMARY:ADVOKASI KLIK DENGAN BIJAK BERSAMA SEK.KEB.PAYA MAK INSUN
DESCRIPTION:TARIKH: 5 NOVEMBER 2020 \nTEMPAT: SEK.KEB.PAYA MAK INSUN
URL:https://feldasgtiang.nadi.my/event/advokasi-klik-dengan-bijak-bersama-sek-keb-paya-mak-insun/
CATEGORIES:DEFAULT
END:VEVENT
END:VCALENDAR