BEGIN:VCALENDAR
VERSION:2.0
PRODID:-//NADI Felda Sungai Tiang - ECPv6.15.20//NONSGML v1.0//EN
CALSCALE:GREGORIAN
METHOD:PUBLISH
X-WR-CALNAME:NADI Felda Sungai Tiang
X-ORIGINAL-URL:https://feldasgtiang.nadi.my
X-WR-CALDESC:Events for NADI Felda Sungai Tiang
REFRESH-INTERVAL;VALUE=DURATION:PT1H
X-Robots-Tag:noindex
X-PUBLISHED-TTL:PT1H
BEGIN:VTIMEZONE
TZID:UTC
BEGIN:STANDARD
TZOFFSETFROM:+0000
TZOFFSETTO:+0000
TZNAME:UTC
DTSTART:20190101T000000
END:STANDARD
END:VTIMEZONE
BEGIN:VEVENT
DTSTART;TZID=UTC:20201113T100000
DTEND;TZID=UTC:20201113T120000
DTSTAMP:20260426T102934
CREATED:20201029T235052Z
LAST-MODIFIED:20201029T235052Z
UID:3978-1605261600-1605268800@feldasgtiang.nadi.my
SUMMARY:WEBSITE(VLOG)
DESCRIPTION:TARIKH: 13 NOVEMBER 2020 \nTEMPAT: PUSAT INTERNET FELDA SUNGAI TIANG
URL:https://feldasgtiang.nadi.my/event/websitevlog/
CATEGORIES:DEFAULT
END:VEVENT
END:VCALENDAR