BEGIN:VCALENDAR
VERSION:2.0
PRODID:-//NADI Felda Sungai Tiang - ECPv6.15.20//NONSGML v1.0//EN
CALSCALE:GREGORIAN
METHOD:PUBLISH
X-WR-CALNAME:NADI Felda Sungai Tiang
X-ORIGINAL-URL:https://feldasgtiang.nadi.my
X-WR-CALDESC:Events for NADI Felda Sungai Tiang
REFRESH-INTERVAL;VALUE=DURATION:PT1H
X-Robots-Tag:noindex
X-PUBLISHED-TTL:PT1H
BEGIN:VTIMEZONE
TZID:UTC
BEGIN:STANDARD
TZOFFSETFROM:+0000
TZOFFSETTO:+0000
TZNAME:UTC
DTSTART:20190101T000000
END:STANDARD
END:VTIMEZONE
BEGIN:VEVENT
DTSTART;TZID=UTC:20201231T153000
DTEND;TZID=UTC:20201231T170000
DTSTAMP:20260421T041915
CREATED:20201126T235340Z
LAST-MODIFIED:20201126T235340Z
UID:3991-1609428600-1609434000@feldasgtiang.nadi.my
SUMMARY:DASHBOARD ( MUAT TURUN APLIKASI DASHBOARD KOMUNITI)
DESCRIPTION:Tarikh: 31 Disember 2020 \nMasa : 3.30 petang hingga 5.00 petang
URL:https://feldasgtiang.nadi.my/event/dashboard-muat-turun-aplikasi-dashboard-komuniti-2/
CATEGORIES:DEFAULT
END:VEVENT
END:VCALENDAR