BEGIN:VCALENDAR
VERSION:2.0
PRODID:-//NADI Felda Sungai Tiang - ECPv6.15.20//NONSGML v1.0//EN
CALSCALE:GREGORIAN
METHOD:PUBLISH
X-WR-CALNAME:NADI Felda Sungai Tiang
X-ORIGINAL-URL:https://feldasgtiang.nadi.my
X-WR-CALDESC:Events for NADI Felda Sungai Tiang
REFRESH-INTERVAL;VALUE=DURATION:PT1H
X-Robots-Tag:noindex
X-PUBLISHED-TTL:PT1H
BEGIN:VTIMEZONE
TZID:UTC
BEGIN:STANDARD
TZOFFSETFROM:+0000
TZOFFSETTO:+0000
TZNAME:UTC
DTSTART:20200101T000000
END:STANDARD
END:VTIMEZONE
BEGIN:VEVENT
DTSTART;TZID=UTC:20210225T100000
DTEND;TZID=UTC:20210225T130000
DTSTAMP:20260420T025358
CREATED:20210214T000850Z
LAST-MODIFIED:20210214T000850Z
UID:3997-1614247200-1614258000@feldasgtiang.nadi.my
SUMMARY:BICARA SANTAI KDB (CHILD-GROOMING)
DESCRIPTION:Tarikh : 25 Februari 2021 \nMasa : 10.00 Pagi hingga 1.00 Petang
URL:https://feldasgtiang.nadi.my/event/bicara-santai-kdb-child-grooming/
LOCATION:PUSAT INTERNET PONDOK CHEGAR\, PUSAT INTERNET PONDOK CHEGAR
CATEGORIES:DEFAULT
END:VEVENT
END:VCALENDAR