BEGIN:VCALENDAR
VERSION:2.0
PRODID:-//NADI Felda Sungai Tiang - ECPv6.15.20//NONSGML v1.0//EN
CALSCALE:GREGORIAN
METHOD:PUBLISH
X-WR-CALNAME:NADI Felda Sungai Tiang
X-ORIGINAL-URL:https://feldasgtiang.nadi.my
X-WR-CALDESC:Events for NADI Felda Sungai Tiang
REFRESH-INTERVAL;VALUE=DURATION:PT1H
X-Robots-Tag:noindex
X-PUBLISHED-TTL:PT1H
BEGIN:VTIMEZONE
TZID:Asia/Kuala_Lumpur
BEGIN:STANDARD
TZOFFSETFROM:+0800
TZOFFSETTO:+0800
TZNAME:+08
DTSTART:20240101T000000
END:STANDARD
END:VTIMEZONE
BEGIN:VEVENT
DTSTART;TZID=Asia/Kuala_Lumpur:20251001T103000
DTEND;TZID=Asia/Kuala_Lumpur:20251031T113000
DTSTAMP:20260426T120944
CREATED:20250930T091821Z
LAST-MODIFIED:20250930T091823Z
UID:5833-1759314600-1761910200@feldasgtiang.nadi.my
SUMMARY:WELLBEING WEBINAR/ EXERCISE/PODCAST
DESCRIPTION:
URL:https://feldasgtiang.nadi.my/event/wellbeing-webinar-exercise-podcast/
END:VEVENT
BEGIN:VEVENT
DTSTART;TZID=Asia/Kuala_Lumpur:20251005T153000
DTEND;TZID=Asia/Kuala_Lumpur:20251008T163000
DTSTAMP:20260426T120944
CREATED:20250930T073409Z
LAST-MODIFIED:20250930T073409Z
UID:5743-1759678200-1759941000@feldasgtiang.nadi.my
SUMMARY:GUIDANCE TUITION
DESCRIPTION:
URL:https://feldasgtiang.nadi.my/event/guidance-tuition/
END:VEVENT
BEGIN:VEVENT
DTSTART;TZID=Asia/Kuala_Lumpur:20251006T090000
DTEND;TZID=Asia/Kuala_Lumpur:20251012T100000
DTSTAMP:20260426T120944
CREATED:20250930T073544Z
LAST-MODIFIED:20250930T073549Z
UID:5745-1759741200-1760263200@feldasgtiang.nadi.my
SUMMARY:OPEN TUITION
DESCRIPTION:
URL:https://feldasgtiang.nadi.my/event/open-tuition/
END:VEVENT
BEGIN:VEVENT
DTSTART;TZID=Asia/Kuala_Lumpur:20251006T153000
DTEND;TZID=Asia/Kuala_Lumpur:20251012T163000
DTSTAMP:20260426T120944
CREATED:20250930T073638Z
LAST-MODIFIED:20250930T073640Z
UID:5747-1759764600-1760286600@feldasgtiang.nadi.my
SUMMARY:ENGLISH PROFICIENCY
DESCRIPTION:
URL:https://feldasgtiang.nadi.my/event/english-proficiency-4/
END:VEVENT
BEGIN:VEVENT
DTSTART;TZID=Asia/Kuala_Lumpur:20251007T100000
DTEND;TZID=Asia/Kuala_Lumpur:20251007T110000
DTSTAMP:20260426T120944
CREATED:20250930T080526Z
LAST-MODIFIED:20250930T080541Z
UID:5777-1759831200-1759834800@feldasgtiang.nadi.my
SUMMARY:EKLASS : MODULE 1& 2
DESCRIPTION:
URL:https://feldasgtiang.nadi.my/event/eklass-module-1-2-2/
END:VEVENT
END:VCALENDAR