BEGIN:VCALENDAR
VERSION:2.0
PRODID:-//NADI Felda Sungai Tiang - ECPv6.15.20//NONSGML v1.0//EN
CALSCALE:GREGORIAN
METHOD:PUBLISH
X-WR-CALNAME:NADI Felda Sungai Tiang
X-ORIGINAL-URL:https://feldasgtiang.nadi.my
X-WR-CALDESC:Events for NADI Felda Sungai Tiang
REFRESH-INTERVAL;VALUE=DURATION:PT1H
X-Robots-Tag:noindex
X-PUBLISHED-TTL:PT1H
BEGIN:VTIMEZONE
TZID:Asia/Kuala_Lumpur
BEGIN:STANDARD
TZOFFSETFROM:+0800
TZOFFSETTO:+0800
TZNAME:+08
DTSTART:20240101T000000
END:STANDARD
END:VTIMEZONE
BEGIN:VEVENT
DTSTART;TZID=Asia/Kuala_Lumpur:20251001T103000
DTEND;TZID=Asia/Kuala_Lumpur:20251031T113000
DTSTAMP:20260424T034359
CREATED:20250930T091821Z
LAST-MODIFIED:20250930T091823Z
UID:5833-1759314600-1761910200@feldasgtiang.nadi.my
SUMMARY:WELLBEING WEBINAR/ EXERCISE/PODCAST
DESCRIPTION:
URL:https://feldasgtiang.nadi.my/event/wellbeing-webinar-exercise-podcast/
END:VEVENT
BEGIN:VEVENT
DTSTART;TZID=Asia/Kuala_Lumpur:20251017T100000
DTEND;TZID=Asia/Kuala_Lumpur:20251119T120000
DTSTAMP:20260424T034359
CREATED:20250930T085340Z
LAST-MODIFIED:20250930T085345Z
UID:5787-1760695200-1763553600@feldasgtiang.nadi.my
SUMMARY:SHORT LEARNING SERIES
DESCRIPTION:
URL:https://feldasgtiang.nadi.my/event/short-learning-series/
END:VEVENT
BEGIN:VEVENT
DTSTART;TZID=Asia/Kuala_Lumpur:20251028T100000
DTEND;TZID=Asia/Kuala_Lumpur:20251028T120000
DTSTAMP:20260424T034359
CREATED:20250930T074426Z
LAST-MODIFIED:20250930T074432Z
UID:5759-1761645600-1761652800@feldasgtiang.nadi.my
SUMMARY:COHORT 5 PODCAST : TEKNOLOGI DALAM DUNIA USAHAWAN
DESCRIPTION:
URL:https://feldasgtiang.nadi.my/event/cohort-5-podcast-teknologi-dalam-dunia-usahawan/
END:VEVENT
BEGIN:VEVENT
DTSTART;TZID=Asia/Kuala_Lumpur:20251028T100000
DTEND;TZID=Asia/Kuala_Lumpur:20251028T120000
DTSTAMP:20260424T034359
CREATED:20250930T074553Z
LAST-MODIFIED:20250930T074557Z
UID:5761-1761645600-1761652800@feldasgtiang.nadi.my
SUMMARY:COHORT 6 : PENDAFTARAN & TONTONAN VIDEO PRA-LATIHAN
DESCRIPTION:
URL:https://feldasgtiang.nadi.my/event/cohort-6-pendaftaran-tontonan-video-pra-latihan/
END:VEVENT
END:VCALENDAR