BEGIN:VCALENDAR
VERSION:2.0
PRODID:-//NADI Felda Sungai Tiang - ECPv6.15.20//NONSGML v1.0//EN
CALSCALE:GREGORIAN
METHOD:PUBLISH
X-WR-CALNAME:NADI Felda Sungai Tiang
X-ORIGINAL-URL:https://feldasgtiang.nadi.my
X-WR-CALDESC:Events for NADI Felda Sungai Tiang
REFRESH-INTERVAL;VALUE=DURATION:PT1H
X-Robots-Tag:noindex
X-PUBLISHED-TTL:PT1H
BEGIN:VTIMEZONE
TZID:Asia/Kuala_Lumpur
BEGIN:STANDARD
TZOFFSETFROM:+0800
TZOFFSETTO:+0800
TZNAME:+08
DTSTART:20240101T000000
END:STANDARD
END:VTIMEZONE
BEGIN:VEVENT
DTSTART;TZID=Asia/Kuala_Lumpur:20251017T100000
DTEND;TZID=Asia/Kuala_Lumpur:20251119T120000
DTSTAMP:20260426T122812
CREATED:20250930T085340Z
LAST-MODIFIED:20250930T085345Z
UID:5787-1760695200-1763553600@feldasgtiang.nadi.my
SUMMARY:SHORT LEARNING SERIES
DESCRIPTION:
URL:https://feldasgtiang.nadi.my/event/short-learning-series/
END:VEVENT
BEGIN:VEVENT
DTSTART;TZID=Asia/Kuala_Lumpur:20251101T103000
DTEND;TZID=Asia/Kuala_Lumpur:20251231T113000
DTSTAMP:20260426T122812
CREATED:20251031T081754Z
LAST-MODIFIED:20251031T081756Z
UID:5975-1761993000-1767180600@feldasgtiang.nadi.my
SUMMARY:WELLBEING
DESCRIPTION:
URL:https://feldasgtiang.nadi.my/event/wellbeing-2/
END:VEVENT
BEGIN:VEVENT
DTSTART;TZID=Asia/Kuala_Lumpur:20251107T140000
DTEND;TZID=Asia/Kuala_Lumpur:20251109T150000
DTSTAMP:20260426T122812
CREATED:20251030T073014Z
LAST-MODIFIED:20251030T073018Z
UID:5913-1762524000-1762700400@feldasgtiang.nadi.my
SUMMARY:ESPORT AWARENESS CLASS
DESCRIPTION:
URL:https://feldasgtiang.nadi.my/event/esport-awareness-class/
END:VEVENT
BEGIN:VEVENT
DTSTART;TZID=Asia/Kuala_Lumpur:20251108T080000
DTEND;TZID=Asia/Kuala_Lumpur:20251108T170000
DTSTAMP:20260426T122812
CREATED:20251030T073048Z
LAST-MODIFIED:20251030T073050Z
UID:5915-1762588800-1762621200@feldasgtiang.nadi.my
SUMMARY:ESPORT STATE LEVEL TOURNAMENT -PLAY OFF
DESCRIPTION:
URL:https://feldasgtiang.nadi.my/event/esport-state-level-tournament-play-off/
END:VEVENT
BEGIN:VEVENT
DTSTART;TZID=Asia/Kuala_Lumpur:20251108T100000
DTEND;TZID=Asia/Kuala_Lumpur:20251108T120000
DTSTAMP:20260426T122812
CREATED:20251031T081209Z
LAST-MODIFIED:20251031T081211Z
UID:5963-1762596000-1762603200@feldasgtiang.nadi.my
SUMMARY:SUMO ROBOT WORSHOP SESSION 4
DESCRIPTION:
URL:https://feldasgtiang.nadi.my/event/sumo-robot-worshop-session-4/
END:VEVENT
BEGIN:VEVENT
DTSTART;TZID=Asia/Kuala_Lumpur:20251108T100000
DTEND;TZID=Asia/Kuala_Lumpur:20251108T120000
DTSTAMP:20260426T122812
CREATED:20251031T081327Z
LAST-MODIFIED:20251031T081329Z
UID:5967-1762596000-1762603200@feldasgtiang.nadi.my
SUMMARY:IOT INNOVATION WORKSHOP SESI 4
DESCRIPTION:
URL:https://feldasgtiang.nadi.my/event/iot-innovation-workshop-sesi-4/
END:VEVENT
END:VCALENDAR