BEGIN:VCALENDAR
VERSION:2.0
PRODID:-//NADI Felda Sungai Tiang - ECPv6.15.20//NONSGML v1.0//EN
CALSCALE:GREGORIAN
METHOD:PUBLISH
X-WR-CALNAME:NADI Felda Sungai Tiang
X-ORIGINAL-URL:https://feldasgtiang.nadi.my
X-WR-CALDESC:Events for NADI Felda Sungai Tiang
REFRESH-INTERVAL;VALUE=DURATION:PT1H
X-Robots-Tag:noindex
X-PUBLISHED-TTL:PT1H
BEGIN:VTIMEZONE
TZID:Asia/Kuala_Lumpur
BEGIN:STANDARD
TZOFFSETFROM:+0800
TZOFFSETTO:+0800
TZNAME:+08
DTSTART:20240101T000000
END:STANDARD
END:VTIMEZONE
BEGIN:VEVENT
DTSTART;TZID=Asia/Kuala_Lumpur:20251101T103000
DTEND;TZID=Asia/Kuala_Lumpur:20251231T113000
DTSTAMP:20260426T114939
CREATED:20251031T081754Z
LAST-MODIFIED:20251031T081756Z
UID:5975-1761993000-1767180600@feldasgtiang.nadi.my
SUMMARY:WELLBEING
DESCRIPTION:
URL:https://feldasgtiang.nadi.my/event/wellbeing-2/
END:VEVENT
BEGIN:VEVENT
DTSTART;TZID=Asia/Kuala_Lumpur:20251120T140000
DTEND;TZID=Asia/Kuala_Lumpur:20251120T150000
DTSTAMP:20260426T114939
CREATED:20251030T080112Z
LAST-MODIFIED:20251030T080114Z
UID:5955-1763647200-1763650800@feldasgtiang.nadi.my
SUMMARY:EKLASS MODUL 4
DESCRIPTION:
URL:https://feldasgtiang.nadi.my/event/eklass-modul-4-2/
END:VEVENT
BEGIN:VEVENT
DTSTART;TZID=Asia/Kuala_Lumpur:20251120T150000
DTEND;TZID=Asia/Kuala_Lumpur:20251120T163000
DTSTAMP:20260426T114939
CREATED:20251031T081701Z
LAST-MODIFIED:20251031T081703Z
UID:5973-1763650800-1763656200@feldasgtiang.nadi.my
SUMMARY:CYBERSECURITY :WEBINAR
DESCRIPTION:
URL:https://feldasgtiang.nadi.my/event/cybersecurity-webinar-5/
END:VEVENT
END:VCALENDAR