BEGIN:VCALENDAR
VERSION:2.0
PRODID:-//NADI Felda Sungai Tiang - ECPv6.15.20//NONSGML v1.0//EN
CALSCALE:GREGORIAN
METHOD:PUBLISH
X-WR-CALNAME:NADI Felda Sungai Tiang
X-ORIGINAL-URL:https://feldasgtiang.nadi.my
X-WR-CALDESC:Events for NADI Felda Sungai Tiang
REFRESH-INTERVAL;VALUE=DURATION:PT1H
X-Robots-Tag:noindex
X-PUBLISHED-TTL:PT1H
BEGIN:VTIMEZONE
TZID:Asia/Kuala_Lumpur
BEGIN:STANDARD
TZOFFSETFROM:+0800
TZOFFSETTO:+0800
TZNAME:+08
DTSTART:20240101T000000
END:STANDARD
END:VTIMEZONE
BEGIN:VEVENT
DTSTART;TZID=Asia/Kuala_Lumpur:20251101T103000
DTEND;TZID=Asia/Kuala_Lumpur:20251231T113000
DTSTAMP:20260425T061110
CREATED:20251031T081754Z
LAST-MODIFIED:20251031T081756Z
UID:5975-1761993000-1767180600@feldasgtiang.nadi.my
SUMMARY:WELLBEING
DESCRIPTION:
URL:https://feldasgtiang.nadi.my/event/wellbeing-2/
END:VEVENT
BEGIN:VEVENT
DTSTART;TZID=Asia/Kuala_Lumpur:20251121T143000
DTEND;TZID=Asia/Kuala_Lumpur:20251123T153000
DTSTAMP:20260425T061110
CREATED:20251030T073420Z
LAST-MODIFIED:20251030T073421Z
UID:5921-1763735400-1763911800@feldasgtiang.nadi.my
SUMMARY:ESPORT AWARENESS CLASS
DESCRIPTION:
URL:https://feldasgtiang.nadi.my/event/esport-awareness-class-2/
END:VEVENT
BEGIN:VEVENT
DTSTART;TZID=Asia/Kuala_Lumpur:20251122T100000
DTEND;TZID=Asia/Kuala_Lumpur:20251122T120000
DTSTAMP:20260425T061110
CREATED:20251031T081245Z
LAST-MODIFIED:20251031T081246Z
UID:5965-1763805600-1763812800@feldasgtiang.nadi.my
SUMMARY:SUMO ROBOT WORSHOP SESSION 4
DESCRIPTION:
URL:https://feldasgtiang.nadi.my/event/sumo-robot-worshop-session-4-2/
END:VEVENT
BEGIN:VEVENT
DTSTART;TZID=Asia/Kuala_Lumpur:20251122T150000
DTEND;TZID=Asia/Kuala_Lumpur:20251122T170000
DTSTAMP:20260425T061110
CREATED:20251031T081424Z
LAST-MODIFIED:20251031T081427Z
UID:5969-1763823600-1763830800@feldasgtiang.nadi.my
SUMMARY:IOT INNOVATION WORKSHOP SESSION 4
DESCRIPTION:
URL:https://feldasgtiang.nadi.my/event/iot-innovation-workshop-session-4/
END:VEVENT
END:VCALENDAR