BEGIN:VCALENDAR
VERSION:2.0
PRODID:-//NADI Felda Sungai Tiang - ECPv6.15.20//NONSGML v1.0//EN
CALSCALE:GREGORIAN
METHOD:PUBLISH
X-WR-CALNAME:NADI Felda Sungai Tiang
X-ORIGINAL-URL:https://feldasgtiang.nadi.my
X-WR-CALDESC:Events for NADI Felda Sungai Tiang
REFRESH-INTERVAL;VALUE=DURATION:PT1H
X-Robots-Tag:noindex
X-PUBLISHED-TTL:PT1H
BEGIN:VTIMEZONE
TZID:Asia/Kuala_Lumpur
BEGIN:STANDARD
TZOFFSETFROM:+0800
TZOFFSETTO:+0800
TZNAME:+08
DTSTART:20250101T000000
END:STANDARD
END:VTIMEZONE
BEGIN:VEVENT
DTSTART;TZID=Asia/Kuala_Lumpur:20260105T091500
DTEND;TZID=Asia/Kuala_Lumpur:20260105T101500
DTSTAMP:20260421T094256
CREATED:20260116T084211Z
LAST-MODIFIED:20260116T084213Z
UID:6260-1767604500-1767608100@feldasgtiang.nadi.my
SUMMARY:DILEA OPEN TUITION MATEMATIK
DESCRIPTION:
URL:https://feldasgtiang.nadi.my/event/dilea-open-tuition-matematik/
END:VEVENT
END:VCALENDAR