BEGIN:VCALENDAR
VERSION:2.0
PRODID:-//NADI Felda Sungai Tiang - ECPv6.15.20//NONSGML v1.0//EN
CALSCALE:GREGORIAN
METHOD:PUBLISH
X-WR-CALNAME:NADI Felda Sungai Tiang
X-ORIGINAL-URL:https://feldasgtiang.nadi.my
X-WR-CALDESC:Events for NADI Felda Sungai Tiang
REFRESH-INTERVAL;VALUE=DURATION:PT1H
X-Robots-Tag:noindex
X-PUBLISHED-TTL:PT1H
BEGIN:VTIMEZONE
TZID:Asia/Kuala_Lumpur
BEGIN:STANDARD
TZOFFSETFROM:+0800
TZOFFSETTO:+0800
TZNAME:+08
DTSTART:20250101T000000
END:STANDARD
END:VTIMEZONE
BEGIN:VEVENT
DTSTART;TZID=Asia/Kuala_Lumpur:20260109T100000
DTEND;TZID=Asia/Kuala_Lumpur:20260109T170000
DTSTAMP:20260421T155825
CREATED:20260109T041510Z
LAST-MODIFIED:20260109T041516Z
UID:6195-1767952800-1767978000@feldasgtiang.nadi.my
SUMMARY:PENGENALAN E-SUKAN: DARIPADA HOBI KEPADA PROGRAM KOMPETITIF BERSTRUKTUR
DESCRIPTION:
URL:https://feldasgtiang.nadi.my/event/pengenalan-e-sukan-daripada-hobi-kepada-program-kompetitif-berstruktur/
END:VEVENT
BEGIN:VEVENT
DTSTART;TZID=Asia/Kuala_Lumpur:20260109T103000
DTEND;TZID=Asia/Kuala_Lumpur:20260109T233000
DTSTAMP:20260421T155825
CREATED:20260109T041440Z
LAST-MODIFIED:20260109T041440Z
UID:6193-1767954600-1768001400@feldasgtiang.nadi.my
SUMMARY:WELLBEING : MLBB\, ROBLOX\, GENSHIN…NAK LEVEL UP DALAM GAME ATAU DALAM HIDUP?
DESCRIPTION:
URL:https://feldasgtiang.nadi.my/event/wellbeing-mlbb-roblox-genshinnak-level-up-dalam-game-atau-dalam-hidup/
END:VEVENT
END:VCALENDAR