BEGIN:VCALENDAR
VERSION:2.0
PRODID:-//NADI Felda Sungai Tiang - ECPv6.15.20//NONSGML v1.0//EN
CALSCALE:GREGORIAN
METHOD:PUBLISH
X-WR-CALNAME:NADI Felda Sungai Tiang
X-ORIGINAL-URL:https://feldasgtiang.nadi.my
X-WR-CALDESC:Events for NADI Felda Sungai Tiang
REFRESH-INTERVAL;VALUE=DURATION:PT1H
X-Robots-Tag:noindex
X-PUBLISHED-TTL:PT1H
BEGIN:VTIMEZONE
TZID:Asia/Kuala_Lumpur
BEGIN:STANDARD
TZOFFSETFROM:+0800
TZOFFSETTO:+0800
TZNAME:+08
DTSTART:20250101T000000
END:STANDARD
END:VTIMEZONE
BEGIN:VEVENT
DTSTART;TZID=Asia/Kuala_Lumpur:20260116T093000
DTEND;TZID=Asia/Kuala_Lumpur:20260116T110000
DTSTAMP:20260426T040713
CREATED:20260112T071843Z
LAST-MODIFIED:20260112T071953Z
UID:6220-1768555800-1768561200@feldasgtiang.nadi.my
SUMMARY:MAHIR MASAK MINGGU 1 : PENGENALAN KURSUS
DESCRIPTION:
URL:https://feldasgtiang.nadi.my/event/mahir-gajet-minggu-1-pengenalan-kursus/
END:VEVENT
BEGIN:VEVENT
DTSTART;TZID=Asia/Kuala_Lumpur:20260116T100000
DTEND;TZID=Asia/Kuala_Lumpur:20260116T110000
DTSTAMP:20260426T040713
CREATED:20260116T083729Z
LAST-MODIFIED:20260116T083729Z
UID:6249-1768557600-1768561200@feldasgtiang.nadi.my
SUMMARY:NADI KEUSAHAWANAN : RAKAMAN WEBINAR(PERANCANGAN PERNIAGAAN)
DESCRIPTION:
URL:https://feldasgtiang.nadi.my/event/nadi-keusahawanan-rakaman-webinarperancangan-perniagaan/
END:VEVENT
BEGIN:VEVENT
DTSTART;TZID=Asia/Kuala_Lumpur:20260116T153000
DTEND;TZID=Asia/Kuala_Lumpur:20260116T160000
DTSTAMP:20260426T040713
CREATED:20260116T082714Z
LAST-MODIFIED:20260116T082720Z
UID:6230-1768577400-1768579200@feldasgtiang.nadi.my
SUMMARY:ESPORTS : ETIKA & SIKAP PEMAIN E-SUKAN
DESCRIPTION:
URL:https://feldasgtiang.nadi.my/event/esports-etika-sikap-pemain-e-sukan/
END:VEVENT
END:VCALENDAR