BEGIN:VCALENDAR
VERSION:2.0
PRODID:-//NADI Felda Sungai Tiang - ECPv6.15.20//NONSGML v1.0//EN
CALSCALE:GREGORIAN
METHOD:PUBLISH
X-WR-CALNAME:NADI Felda Sungai Tiang
X-ORIGINAL-URL:https://feldasgtiang.nadi.my
X-WR-CALDESC:Events for NADI Felda Sungai Tiang
REFRESH-INTERVAL;VALUE=DURATION:PT1H
X-Robots-Tag:noindex
X-PUBLISHED-TTL:PT1H
BEGIN:VTIMEZONE
TZID:Asia/Kuala_Lumpur
BEGIN:STANDARD
TZOFFSETFROM:+0800
TZOFFSETTO:+0800
TZNAME:+08
DTSTART:20250101T000000
END:STANDARD
END:VTIMEZONE
BEGIN:VEVENT
DTSTART;TZID=Asia/Kuala_Lumpur:20260120T100000
DTEND;TZID=Asia/Kuala_Lumpur:20260120T110000
DTSTAMP:20260424T074035
CREATED:20260116T082904Z
LAST-MODIFIED:20260116T083301Z
UID:6232-1768903200-1768906800@feldasgtiang.nadi.my
SUMMARY:E-KELAS USAHAWAN: STRATEGI PEMASARAN DIGITAL
DESCRIPTION:
URL:https://feldasgtiang.nadi.my/event/e-kelas-webinar-strategi-pemasaran-digital/
END:VEVENT
END:VCALENDAR