BEGIN:VCALENDAR
VERSION:2.0
PRODID:-//NADI Felda Sungai Tiang - ECPv6.15.20//NONSGML v1.0//EN
CALSCALE:GREGORIAN
METHOD:PUBLISH
X-WR-CALNAME:NADI Felda Sungai Tiang
X-ORIGINAL-URL:https://feldasgtiang.nadi.my
X-WR-CALDESC:Events for NADI Felda Sungai Tiang
REFRESH-INTERVAL;VALUE=DURATION:PT1H
X-Robots-Tag:noindex
X-PUBLISHED-TTL:PT1H
BEGIN:VTIMEZONE
TZID:Asia/Kuala_Lumpur
BEGIN:STANDARD
TZOFFSETFROM:+0800
TZOFFSETTO:+0800
TZNAME:+08
DTSTART:20250101T000000
END:STANDARD
END:VTIMEZONE
BEGIN:VEVENT
DTSTART;TZID=Asia/Kuala_Lumpur:20260122T100000
DTEND;TZID=Asia/Kuala_Lumpur:20260122T110000
DTSTAMP:20260421T091650
CREATED:20260116T082951Z
LAST-MODIFIED:20260116T083215Z
UID:6234-1769076000-1769079600@feldasgtiang.nadi.my
SUMMARY:E-KELAS USAHAWAN : ASAS KOMUNIKASI VISUAL
DESCRIPTION:
URL:https://feldasgtiang.nadi.my/event/e-kelas-asas-komunikasi-visual/
END:VEVENT
BEGIN:VEVENT
DTSTART;TZID=Asia/Kuala_Lumpur:20260122T100000
DTEND;TZID=Asia/Kuala_Lumpur:20260122T120000
DTSTAMP:20260421T091650
CREATED:20260116T083828Z
LAST-MODIFIED:20260116T083830Z
UID:6252-1769076000-1769083200@feldasgtiang.nadi.my
SUMMARY:NADI KEUSAHAWANAN : LIVE WEBINAR(PERANCANGAN KEWANGAN)
DESCRIPTION:
URL:https://feldasgtiang.nadi.my/event/nadi-keusahawanan-live-webinarperancangan-kewangan/
END:VEVENT
BEGIN:VEVENT
DTSTART;TZID=Asia/Kuala_Lumpur:20260122T150000
DTEND;TZID=Asia/Kuala_Lumpur:20260122T163000
DTSTAMP:20260421T091650
CREATED:20260112T072356Z
LAST-MODIFIED:20260112T072356Z
UID:6226-1769094000-1769099400@feldasgtiang.nadi.my
SUMMARY:CYBERSECURITY : SIRI CYBER HYGIENE
DESCRIPTION:
URL:https://feldasgtiang.nadi.my/event/cybersecurity-siri-cyber-hygiene/
END:VEVENT
END:VCALENDAR