BEGIN:VCALENDAR
VERSION:2.0
PRODID:-//NADI Felda Sungai Tiang - ECPv6.15.20//NONSGML v1.0//EN
CALSCALE:GREGORIAN
METHOD:PUBLISH
X-WR-CALNAME:NADI Felda Sungai Tiang
X-ORIGINAL-URL:https://feldasgtiang.nadi.my
X-WR-CALDESC:Events for NADI Felda Sungai Tiang
REFRESH-INTERVAL;VALUE=DURATION:PT1H
X-Robots-Tag:noindex
X-PUBLISHED-TTL:PT1H
BEGIN:VTIMEZONE
TZID:Asia/Kuala_Lumpur
BEGIN:STANDARD
TZOFFSETFROM:+0800
TZOFFSETTO:+0800
TZNAME:+08
DTSTART:20250101T000000
END:STANDARD
END:VTIMEZONE
BEGIN:VEVENT
DTSTART;TZID=Asia/Kuala_Lumpur:20260131T100000
DTEND;TZID=Asia/Kuala_Lumpur:20260131T233000
DTSTAMP:20260421T130733
CREATED:20260109T042043Z
LAST-MODIFIED:20260109T042044Z
UID:6207-1769853600-1769902200@feldasgtiang.nadi.my
SUMMARY:WEBINAR ATAS TALIAN: BIJAK KEWANGAN
DESCRIPTION:
URL:https://feldasgtiang.nadi.my/event/webinar-atas-talian-bijak-kewangan/
END:VEVENT
END:VCALENDAR