BEGIN:VCALENDAR
VERSION:2.0
PRODID:-//NADI Felda Sungai Tiang - ECPv6.15.20//NONSGML v1.0//EN
CALSCALE:GREGORIAN
METHOD:PUBLISH
X-WR-CALNAME:NADI Felda Sungai Tiang
X-ORIGINAL-URL:https://feldasgtiang.nadi.my
X-WR-CALDESC:Events for NADI Felda Sungai Tiang
REFRESH-INTERVAL;VALUE=DURATION:PT1H
X-Robots-Tag:noindex
X-PUBLISHED-TTL:PT1H
BEGIN:VTIMEZONE
TZID:Asia/Kuala_Lumpur
BEGIN:STANDARD
TZOFFSETFROM:+0800
TZOFFSETTO:+0800
TZNAME:+08
DTSTART:20250101T000000
END:STANDARD
END:VTIMEZONE
BEGIN:VEVENT
DTSTART;TZID=Asia/Kuala_Lumpur:20260331T140000
DTEND;TZID=Asia/Kuala_Lumpur:20260331T150000
DTSTAMP:20260421T033835
CREATED:20260331T035449Z
LAST-MODIFIED:20260331T035540Z
UID:6487-1774965600-1774969200@feldasgtiang.nadi.my
SUMMARY:EKELAS USAHAWAN MENGURUS & MENGUKUR KEBERKESANAN PEMASARAN DIGITAL
DESCRIPTION:
URL:https://feldasgtiang.nadi.my/event/ekelas-usahawan-ai-untuk-mencipta-kandungan-2/
END:VEVENT
END:VCALENDAR