BEGIN:VCALENDAR
VERSION:2.0
PRODID:-//NADI Felda Sungai Tiang - ECPv6.15.20//NONSGML v1.0//EN
CALSCALE:GREGORIAN
METHOD:PUBLISH
X-WR-CALNAME:NADI Felda Sungai Tiang
X-ORIGINAL-URL:https://feldasgtiang.nadi.my
X-WR-CALDESC:Events for NADI Felda Sungai Tiang
REFRESH-INTERVAL;VALUE=DURATION:PT1H
X-Robots-Tag:noindex
X-PUBLISHED-TTL:PT1H
BEGIN:VTIMEZONE
TZID:UTC
BEGIN:STANDARD
TZOFFSETFROM:+0000
TZOFFSETTO:+0000
TZNAME:UTC
DTSTART:20200101T000000
END:STANDARD
END:VTIMEZONE
BEGIN:VEVENT
DTSTART;TZID=UTC:20210408T100000
DTEND;TZID=UTC:20210408T120000
DTSTAMP:20260420T051310
CREATED:20210326T175249Z
LAST-MODIFIED:20210326T175249Z
UID:4007-1617876000-1617883200@feldasgtiang.nadi.my
SUMMARY:E-DAGANG
DESCRIPTION:Tarikh : 8 April 2021 \nMasa : 10.00 Pagi hingga 12.00 Tengahari
URL:https://feldasgtiang.nadi.my/event/e-dagang-2/
CATEGORIES:DEFAULT
END:VEVENT
BEGIN:VEVENT
DTSTART;TZID=UTC:20210416T100000
DTEND;TZID=UTC:20210416T110000
DTSTAMP:20260420T051310
CREATED:20210326T175525Z
LAST-MODIFIED:20210326T175525Z
UID:4008-1618567200-1618570800@feldasgtiang.nadi.my
SUMMARY:ASAS TEKNOLOGI MAKLUMAT&KOMUNIKASI (PENGENALAN KEPADA INTERNET)
DESCRIPTION:Tarikh : 16 April 2021 \nMasa  : 10.00 Pagi hingga 11.00 Pagi
URL:https://feldasgtiang.nadi.my/event/asas-teknologi-maklumatkomunikasi-pengenalan-kepada-internet/
CATEGORIES:DEFAULT
END:VEVENT
BEGIN:VEVENT
DTSTART;TZID=UTC:20210417T100000
DTEND;TZID=UTC:20210417T120000
DTSTAMP:20260420T051310
CREATED:20210326T175702Z
LAST-MODIFIED:20210326T175702Z
UID:4009-1618653600-1618660800@feldasgtiang.nadi.my
SUMMARY:E-PEMBELAJARAN (APLIKASI PEMBELAJARAN)
DESCRIPTION:Tarikh : 17 April 2021 \nMasa : 10.00 Pagi hingga 12.00 Tengahari
URL:https://feldasgtiang.nadi.my/event/e-pembelajaran-aplikasi-pembelajaran-13/
CATEGORIES:DEFAULT
END:VEVENT
BEGIN:VEVENT
DTSTART;TZID=UTC:20210422T153000
DTEND;TZID=UTC:20210422T170000
DTSTAMP:20260420T051310
CREATED:20210326T183149Z
LAST-MODIFIED:20210326T183149Z
UID:4010-1619105400-1619110800@feldasgtiang.nadi.my
SUMMARY:BICARA SANTAI KDB (PERMAINAN DALAM TALIAN)
DESCRIPTION:Tarikh : 22 April 2021 \nMasa  : 3.30 Petang hingga 5.00 Petang
URL:https://feldasgtiang.nadi.my/event/bicara-santai-kdb-permainan-dalam-talian/
CATEGORIES:DEFAULT
END:VEVENT
BEGIN:VEVENT
DTSTART;TZID=UTC:20210423T100000
DTEND;TZID=UTC:20210423T120000
DTSTAMP:20260420T051310
CREATED:20210326T184605Z
LAST-MODIFIED:20210326T184605Z
UID:4011-1619172000-1619179200@feldasgtiang.nadi.my
SUMMARY:MICROSOFT OFFICE(WORD)
DESCRIPTION:Tarikh : 23 April 2020 \nMasa : 10.00 Pagi hingga 12.00 Tengahari
URL:https://feldasgtiang.nadi.my/event/microsoft-officeword-7/
CATEGORIES:DEFAULT
END:VEVENT
BEGIN:VEVENT
DTSTART;TZID=UTC:20210424T100000
DTEND;TZID=UTC:20210424T120000
DTSTAMP:20260420T051310
CREATED:20210326T184736Z
LAST-MODIFIED:20210326T184736Z
UID:4012-1619258400-1619265600@feldasgtiang.nadi.my
SUMMARY:E-PEMBELAJARAN (PERMAINAN PENDIDIKAN)
DESCRIPTION:Tarikh : 24 April 2020 \nMasa : 10.00 Pagi hingga 12.00 Tengahari
URL:https://feldasgtiang.nadi.my/event/e-pembelajaran-permainan-pendidikan-16/
CATEGORIES:DEFAULT
END:VEVENT
BEGIN:VEVENT
DTSTART;TZID=UTC:20210429T150000
DTEND;TZID=UTC:20210429T170000
DTSTAMP:20260420T051310
CREATED:20210326T184854Z
LAST-MODIFIED:20210326T184854Z
UID:4013-1619708400-1619715600@feldasgtiang.nadi.my
SUMMARY:MICROSOFT PUBLISHER
DESCRIPTION:Tarikh : 29 April 2021 \nMasa : 3.00 Petang hingga 5.00 Petang
URL:https://feldasgtiang.nadi.my/event/microsoft-publisher-5/
CATEGORIES:DEFAULT
END:VEVENT
BEGIN:VEVENT
DTSTART;TZID=UTC:20210506T080000
DTEND;TZID=UTC:20210506T170000
DTSTAMP:20260420T051310
CREATED:20210422T185514Z
LAST-MODIFIED:20210422T185514Z
UID:4014-1620288000-1620320400@feldasgtiang.nadi.my
SUMMARY:LATIHAN KEUSAHAWANAN
DESCRIPTION:Tarikh : 6 Mei 2021 \nMasa  :10.00 Pagi hingga 12.00 Tengahari
URL:https://feldasgtiang.nadi.my/event/latihan-keusahawanan-35/
CATEGORIES:DEFAULT
END:VEVENT
BEGIN:VEVENT
DTSTART;TZID=UTC:20210515T100000
DTEND;TZID=UTC:20210515T120000
DTSTAMP:20260420T051310
CREATED:20210422T185858Z
LAST-MODIFIED:20210422T185858Z
UID:4015-1621072800-1621080000@feldasgtiang.nadi.my
SUMMARY:PAINT
DESCRIPTION:Tarikh : 15 Mei 2021 \nMasa  :10.00 Pagi hingga 12.00 Tengahari
URL:https://feldasgtiang.nadi.my/event/paint-3/
CATEGORIES:DEFAULT
END:VEVENT
BEGIN:VEVENT
DTSTART;TZID=UTC:20210520T140000
DTEND;TZID=UTC:20210520T160000
DTSTAMP:20260420T051310
CREATED:20210422T190415Z
LAST-MODIFIED:20210422T190415Z
UID:4016-1621519200-1621526400@feldasgtiang.nadi.my
SUMMARY:PERKAKASAN KOMPUTER(PENJAGAAN KOMPUTER)
DESCRIPTION:Tarikh : 20 Mei 2021 \nMasa  : 2.00 Petang hingga 4.00 Petang
URL:https://feldasgtiang.nadi.my/event/perkakasan-komputerpenjagaan-komputer/
CATEGORIES:DEFAULT
END:VEVENT
BEGIN:VEVENT
DTSTART;TZID=UTC:20210522T100000
DTEND;TZID=UTC:20210522T120000
DTSTAMP:20260420T051310
CREATED:20210422T190800Z
LAST-MODIFIED:20210422T190800Z
UID:4017-1621677600-1621684800@feldasgtiang.nadi.my
SUMMARY:MULTIMEDIA (SUNTINGAN IMEJ)
DESCRIPTION:Tarikh : 22 Mei 2021 \nMasa : 10.00 Pagi hingga 12.00 Tengahari
URL:https://feldasgtiang.nadi.my/event/multimedia-suntingan-imej/
CATEGORIES:DEFAULT
END:VEVENT
BEGIN:VEVENT
DTSTART;TZID=UTC:20210525T100000
DTEND;TZID=UTC:20210525T120000
DTSTAMP:20260420T051310
CREATED:20210422T191214Z
LAST-MODIFIED:20210422T191214Z
UID:4018-1621936800-1621944000@feldasgtiang.nadi.my
SUMMARY:BICARA SANTAI KDB (TIDAK PASTI JANGAN KONGSI)
DESCRIPTION:Tarikh : 25 Mei 2021 \nMasa : 10.00 Pagi hingga 12.00 Tengahari
URL:https://feldasgtiang.nadi.my/event/bicara-santai-kdb-tidak-pasti-jangan-kongsi/
CATEGORIES:DEFAULT
END:VEVENT
BEGIN:VEVENT
DTSTART;TZID=UTC:20210528T100000
DTEND;TZID=UTC:20210528T120000
DTSTAMP:20260420T051310
CREATED:20210422T191434Z
LAST-MODIFIED:20210422T191434Z
UID:4019-1622196000-1622203200@feldasgtiang.nadi.my
SUMMARY:MICROSOFT OFFICE (EXCEL)
DESCRIPTION:Tarikh : 28 Mei 2021 \nMasa : 10.00 Pagi hingga 12.00 Tengahari
URL:https://feldasgtiang.nadi.my/event/microsoft-office-excel-10/
CATEGORIES:DEFAULT
END:VEVENT
BEGIN:VEVENT
DTSTART;TZID=UTC:20210529T100000
DTEND;TZID=UTC:20210529T120000
DTSTAMP:20260420T051310
CREATED:20210422T191808Z
LAST-MODIFIED:20210422T191808Z
UID:4020-1622282400-1622289600@feldasgtiang.nadi.my
SUMMARY:E-PEMBELAJARAN (TUTORIAL)
DESCRIPTION:Tarikh : 29 Mei 2021 \nMasa : 10.00 Pagi hingga 12.00 Tengahari
URL:https://feldasgtiang.nadi.my/event/e-pembelajaran-tutorial-9/
CATEGORIES:DEFAULT
END:VEVENT
BEGIN:VEVENT
DTSTART;TZID=UTC:20210603T140000
DTEND;TZID=UTC:20210603T160000
DTSTAMP:20260420T051310
CREATED:20210523T190324Z
LAST-MODIFIED:20210523T190324Z
UID:4021-1622728800-1622736000@feldasgtiang.nadi.my
SUMMARY:MULTIMEDIA (ADOBE PHOTOSHOP/ILLUSTRATOR)
DESCRIPTION:Tarikh : 3 Jun 2021 \nMasa  : 2.00 Petang hingga 4.00 Petang
URL:https://feldasgtiang.nadi.my/event/multimedia-adobe-photoshop-illustrator/
CATEGORIES:DEFAULT
END:VEVENT
BEGIN:VEVENT
DTSTART;TZID=UTC:20210610T150000
DTEND;TZID=UTC:20210610T170000
DTSTAMP:20260420T051310
CREATED:20210523T190521Z
LAST-MODIFIED:20210523T190521Z
UID:4022-1623337200-1623344400@feldasgtiang.nadi.my
SUMMARY:E-DAGANG
DESCRIPTION:Tarikh : 10 JUN 2021 \nMasa : 3.00 Petang hingga 5.00 Petang
URL:https://feldasgtiang.nadi.my/event/e-dagang-3/
CATEGORIES:DEFAULT
END:VEVENT
BEGIN:VEVENT
DTSTART;TZID=UTC:20210616T100000
DTEND;TZID=UTC:20210616T120000
DTSTAMP:20260420T051310
CREATED:20210523T190717Z
LAST-MODIFIED:20210523T190717Z
UID:4023-1623837600-1623844800@feldasgtiang.nadi.my
SUMMARY:MICROSOFT OFFICE(POWERPOINT)
DESCRIPTION:Tarikh : 18 Jun 2021 \nMasa : 10.00 Pagi hingga 12.00 Tengahari
URL:https://feldasgtiang.nadi.my/event/microsoft-officepowerpoint-4/
CATEGORIES:DEFAULT
END:VEVENT
BEGIN:VEVENT
DTSTART;TZID=UTC:20210619T100000
DTEND;TZID=UTC:20210619T120000
DTSTAMP:20260420T051310
CREATED:20210523T190907Z
LAST-MODIFIED:20210523T190907Z
UID:4024-1624096800-1624104000@feldasgtiang.nadi.my
SUMMARY:E-PEMBELAJARAN (KUIZ)
DESCRIPTION:Tatikh : 19 Jun 2021 \nMasa  : 10.00 Pagi hingga 12.00 Tengahari
URL:https://feldasgtiang.nadi.my/event/e-pembelajaran-kuiz-5/
CATEGORIES:DEFAULT
END:VEVENT
BEGIN:VEVENT
DTSTART;TZID=UTC:20210624T150000
DTEND;TZID=UTC:20210624T160000
DTSTAMP:20260420T051310
CREATED:20210523T191052Z
LAST-MODIFIED:20210523T191052Z
UID:4025-1624546800-1624550400@feldasgtiang.nadi.my
SUMMARY:BICARA SANTAI KDB (BIJAK BERKONGSI DI ALAM MAYA)
DESCRIPTION:Tarikh : 24 Jun 2021 \nMasa : 3.00 Petang hingga 4.00 Petang
URL:https://feldasgtiang.nadi.my/event/bicara-santai-kdb-bijak-berkongsi-di-alam-maya/
CATEGORIES:DEFAULT
END:VEVENT
BEGIN:VEVENT
DTSTART;TZID=UTC:20210626T100000
DTEND;TZID=UTC:20210626T120000
DTSTAMP:20260420T051310
CREATED:20210523T191501Z
LAST-MODIFIED:20210523T191501Z
UID:4026-1624701600-1624708800@feldasgtiang.nadi.my
SUMMARY:WEBSITE( SOSIAL MEDIA)
DESCRIPTION:Tarikh : 26 Jun 2021 \nMasa : 10.00 Pagi hingga 12.00 Tengahari
URL:https://feldasgtiang.nadi.my/event/website-sosial-media/
CATEGORIES:DEFAULT
END:VEVENT
BEGIN:VEVENT
DTSTART;TZID=UTC:20210708T150000
DTEND;TZID=UTC:20210708T170000
DTSTAMP:20260420T051310
CREATED:20210623T182139Z
LAST-MODIFIED:20210623T182139Z
UID:4027-1625756400-1625763600@feldasgtiang.nadi.my
SUMMARY:LATIHAN KEUSAHAWANAN
DESCRIPTION:Tarikh : 8 Julai 2021 \nMasa : 3.00 Petang hingga 5.00 Petang
URL:https://feldasgtiang.nadi.my/event/latihan-keusahawanan-36/
CATEGORIES:DEFAULT
END:VEVENT
BEGIN:VEVENT
DTSTART;TZID=UTC:20210715T150000
DTEND;TZID=UTC:20210715T170000
DTSTAMP:20260420T051310
CREATED:20210623T182608Z
LAST-MODIFIED:20210623T182608Z
UID:4028-1626361200-1626368400@feldasgtiang.nadi.my
SUMMARY:WEBSITE(BLOG)
DESCRIPTION:Tarikh : 15 Julai 2021 \nMasa : 3.00 Petang hingga 5.00 Petang
URL:https://feldasgtiang.nadi.my/event/websiteblog/
CATEGORIES:DEFAULT
END:VEVENT
BEGIN:VEVENT
DTSTART;TZID=UTC:20210716T100000
DTEND;TZID=UTC:20210716T120000
DTSTAMP:20260420T051310
CREATED:20210623T182759Z
LAST-MODIFIED:20210623T182759Z
UID:4029-1626429600-1626436800@feldasgtiang.nadi.my
SUMMARY:MICROSOFT PUBLISHER
DESCRIPTION:Tarikh : 16 Julai 2021 \nMasa : 10.00 Pagi hingga 12.00 Tengahari
URL:https://feldasgtiang.nadi.my/event/microsoft-publisher-6/
CATEGORIES:DEFAULT
END:VEVENT
BEGIN:VEVENT
DTSTART;TZID=UTC:20210717T100000
DTEND;TZID=UTC:20210717T120000
DTSTAMP:20260420T051310
CREATED:20210623T183715Z
LAST-MODIFIED:20210623T183715Z
UID:4030-1626516000-1626523200@feldasgtiang.nadi.my
SUMMARY:E-PEMBELAJARAN (APLIKASI PEMBELAJARAN)
DESCRIPTION:Tarikh : 17 Julai 2021 \nMasa : 10.00 Pagi hingga 12.00 Tengahari
URL:https://feldasgtiang.nadi.my/event/e-pembelajaran-aplikasi-pembelajaran-14/
CATEGORIES:DEFAULT
END:VEVENT
BEGIN:VEVENT
DTSTART;TZID=UTC:20210724T100000
DTEND;TZID=UTC:20210724T120000
DTSTAMP:20260420T051310
CREATED:20210623T184027Z
LAST-MODIFIED:20210623T184027Z
UID:4031-1627120800-1627128000@feldasgtiang.nadi.my
SUMMARY:MULTIMEDIA (VIDEO)
DESCRIPTION:Tarikh : 24 Julai 2021 \nMasa : 10.00 Pagi hingga 12.00 Tengahari
URL:https://feldasgtiang.nadi.my/event/multimedia-video-7/
CATEGORIES:DEFAULT
END:VEVENT
BEGIN:VEVENT
DTSTART;TZID=UTC:20210729T150000
DTEND;TZID=UTC:20210729T160000
DTSTAMP:20260420T051310
CREATED:20210623T185054Z
LAST-MODIFIED:20210623T185054Z
UID:4032-1627570800-1627574400@feldasgtiang.nadi.my
SUMMARY:BICARA SANTAI KDB (KESELAMATAN DI INTERNET)
DESCRIPTION:Tarikh : 29 Julai 2021 \nMasa : 3.00 Petang hingga 4.00 Petang
URL:https://feldasgtiang.nadi.my/event/bicara-santai-kdb-keselamatan-di-internet/
CATEGORIES:DEFAULT
END:VEVENT
BEGIN:VEVENT
DTSTART;TZID=UTC:20210805T150000
DTEND;TZID=UTC:20210805T170000
DTSTAMP:20260420T051310
CREATED:20210729T001912Z
LAST-MODIFIED:20210729T001912Z
UID:4033-1628175600-1628182800@feldasgtiang.nadi.my
SUMMARY:E-DAGANG
DESCRIPTION:Tarikh : 5 Ogos 2021 \nMasa  : 3.00 Petang hingga 5.00 Petang
URL:https://feldasgtiang.nadi.my/event/e-dagang-4/
CATEGORIES:DEFAULT
END:VEVENT
BEGIN:VEVENT
DTSTART;TZID=UTC:20210820T100000
DTEND;TZID=UTC:20210820T110000
DTSTAMP:20260420T051310
CREATED:20210729T002409Z
LAST-MODIFIED:20210729T002409Z
UID:4034-1629453600-1629457200@feldasgtiang.nadi.my
SUMMARY:E-PEMBELAJARAN (PERMAINAN PENDIDIKAN)
DESCRIPTION:Tarikh : 20 Ogos 2021 \nMasa  :10.00 Pagi hingga 11.00 Pagi
URL:https://feldasgtiang.nadi.my/event/e-pembelajaran-permainan-pendidikan-17/
CATEGORIES:DEFAULT
END:VEVENT
BEGIN:VEVENT
DTSTART;TZID=UTC:20210821T100000
DTEND;TZID=UTC:20210821T120000
DTSTAMP:20260420T051310
CREATED:20210729T002601Z
LAST-MODIFIED:20210729T002601Z
UID:4035-1629540000-1629547200@feldasgtiang.nadi.my
SUMMARY:E-PEMBELAJARAN (TUTORIAL)
DESCRIPTION:Tarikh : 21 Ogos 2021 \nMasa : 10.00 Pagi hingga 12.00 Tengahari
URL:https://feldasgtiang.nadi.my/event/e-pembelajaran-tutorial-10/
CATEGORIES:DEFAULT
END:VEVENT
BEGIN:VEVENT
DTSTART;TZID=UTC:20210826T150000
DTEND;TZID=UTC:20210826T160000
DTSTAMP:20260420T051310
CREATED:20210729T002829Z
LAST-MODIFIED:20210729T002829Z
UID:4036-1629990000-1629993600@feldasgtiang.nadi.my
SUMMARY:BICARA SANTAI KDB (MEMBELI BELAH DALAM TALIAN)
DESCRIPTION:Tarikh : 26 Ogos 2021 \nMasa : 3.00 Petang hingga 4.00 Petang
URL:https://feldasgtiang.nadi.my/event/bicara-santai-kdb-membeli-belah-dalam-talian/
CATEGORIES:DEFAULT
END:VEVENT
END:VCALENDAR