BEGIN:VCALENDAR
VERSION:2.0
PRODID:-//NADI Felda Sungai Tiang - ECPv6.15.20//NONSGML v1.0//EN
CALSCALE:GREGORIAN
METHOD:PUBLISH
X-WR-CALNAME:NADI Felda Sungai Tiang
X-ORIGINAL-URL:https://feldasgtiang.nadi.my
X-WR-CALDESC:Events for NADI Felda Sungai Tiang
REFRESH-INTERVAL;VALUE=DURATION:PT1H
X-Robots-Tag:noindex
X-PUBLISHED-TTL:PT1H
BEGIN:VTIMEZONE
TZID:Asia/Kuala_Lumpur
BEGIN:STANDARD
TZOFFSETFROM:+0800
TZOFFSETTO:+0800
TZNAME:+08
DTSTART:20250101T000000
END:STANDARD
END:VTIMEZONE
BEGIN:VEVENT
DTSTART;TZID=Asia/Kuala_Lumpur:20260330T100000
DTEND;TZID=Asia/Kuala_Lumpur:20260330T110000
DTSTAMP:20260420T051245
CREATED:20260331T035245Z
LAST-MODIFIED:20260331T035248Z
UID:6483-1774864800-1774868400@feldasgtiang.nadi.my
SUMMARY:EKELAS USAHAWAN AI UNTUK MENCIPTA KANDUNGAN
DESCRIPTION:
URL:https://feldasgtiang.nadi.my/event/ekelas-usahawan-ai-untuk-mencipta-kandungan/
END:VEVENT
BEGIN:VEVENT
DTSTART;TZID=Asia/Kuala_Lumpur:20260330T140000
DTEND;TZID=Asia/Kuala_Lumpur:20260330T150000
DTSTAMP:20260420T051245
CREATED:20260331T035350Z
LAST-MODIFIED:20260331T035352Z
UID:6485-1774879200-1774882800@feldasgtiang.nadi.my
SUMMARY:EKELAS USAHAWAN STRATEGI PEMASARAN DIGITAL
DESCRIPTION:
URL:https://feldasgtiang.nadi.my/event/ekelas-usahawan-strategi-pemasaran-digital/
END:VEVENT
BEGIN:VEVENT
DTSTART;TZID=Asia/Kuala_Lumpur:20260331T140000
DTEND;TZID=Asia/Kuala_Lumpur:20260331T150000
DTSTAMP:20260420T051245
CREATED:20260331T035449Z
LAST-MODIFIED:20260331T035540Z
UID:6487-1774965600-1774969200@feldasgtiang.nadi.my
SUMMARY:EKELAS USAHAWAN MENGURUS & MENGUKUR KEBERKESANAN PEMASARAN DIGITAL
DESCRIPTION:
URL:https://feldasgtiang.nadi.my/event/ekelas-usahawan-ai-untuk-mencipta-kandungan-2/
END:VEVENT
BEGIN:VEVENT
DTSTART;TZID=Asia/Kuala_Lumpur:20260401T093000
DTEND;TZID=Asia/Kuala_Lumpur:20260401T110000
DTSTAMP:20260420T051245
CREATED:20260401T030835Z
LAST-MODIFIED:20260401T030836Z
UID:6504-1775035800-1775041200@feldasgtiang.nadi.my
SUMMARY:MAHIR BAIKI GAJET(ULANGKAJI TELEFON PINTAR & UJIAN KEFAHAMAN )
DESCRIPTION:
URL:https://feldasgtiang.nadi.my/event/mahir-baiki-gajetulangkaji-telefon-pintar-ujian-kefahaman/
END:VEVENT
BEGIN:VEVENT
DTSTART;TZID=Asia/Kuala_Lumpur:20260402T100000
DTEND;TZID=Asia/Kuala_Lumpur:20260402T120000
DTSTAMP:20260420T051245
CREATED:20260402T033627Z
LAST-MODIFIED:20260402T033629Z
UID:6507-1775124000-1775131200@feldasgtiang.nadi.my
SUMMARY:NADI X KEUSAHAWANAN : PERANCANGAN PERNIAGAAN
DESCRIPTION:
URL:https://feldasgtiang.nadi.my/event/nadi-x-keusahawanan-perancangan-perniagaan/
END:VEVENT
BEGIN:VEVENT
DTSTART;TZID=Asia/Kuala_Lumpur:20260404T030000
DTEND;TZID=Asia/Kuala_Lumpur:20260404T160000
DTSTAMP:20260420T051245
CREATED:20260401T022031Z
LAST-MODIFIED:20260401T022034Z
UID:6500-1775271600-1775318400@feldasgtiang.nadi.my
SUMMARY:KIS : PRIVASI DATA :DATA ANDA NYAWA ANDA-JANGAN BIAR DICURI!
DESCRIPTION:
URL:https://feldasgtiang.nadi.my/event/kis-privasi-data-data-anda-nyawa-anda-jangan-biar-dicuri/
END:VEVENT
BEGIN:VEVENT
DTSTART;TZID=Asia/Kuala_Lumpur:20260407T140000
DTEND;TZID=Asia/Kuala_Lumpur:20260407T150000
DTSTAMP:20260420T051245
CREATED:20260402T040747Z
LAST-MODIFIED:20260402T040747Z
UID:6509-1775570400-1775574000@feldasgtiang.nadi.my
SUMMARY:VIDEO PRA LATIHAN :PEMASARAN
DESCRIPTION:
URL:https://feldasgtiang.nadi.my/event/video-pra-latihan-pemasaran/
END:VEVENT
BEGIN:VEVENT
DTSTART;TZID=Asia/Kuala_Lumpur:20260407T140000
DTEND;TZID=Asia/Kuala_Lumpur:20260407T160000
DTSTAMP:20260420T051245
CREATED:20260402T040836Z
LAST-MODIFIED:20260402T040839Z
UID:6511-1775570400-1775577600@feldasgtiang.nadi.my
SUMMARY:RAKAMAN WEBINAR: PERANCANGAN PERNIAGAAN
DESCRIPTION:
URL:https://feldasgtiang.nadi.my/event/rakaman-webinar-perancangan-perniagaan/
END:VEVENT
BEGIN:VEVENT
DTSTART;TZID=Asia/Kuala_Lumpur:20260407T153000
DTEND;TZID=Asia/Kuala_Lumpur:20260407T163000
DTSTAMP:20260420T051245
CREATED:20260407T035605Z
LAST-MODIFIED:20260407T035711Z
UID:6553-1775575800-1775579400@feldasgtiang.nadi.my
SUMMARY:GUIDANCE TUITION MATEMATIK FORM 5
DESCRIPTION:
URL:https://feldasgtiang.nadi.my/event/guidance-tuition-matematik-form-5/
END:VEVENT
BEGIN:VEVENT
DTSTART;TZID=Asia/Kuala_Lumpur:20260409T100000
DTEND;TZID=Asia/Kuala_Lumpur:20260409T120000
DTSTAMP:20260420T051245
CREATED:20260402T041049Z
LAST-MODIFIED:20260402T041740Z
UID:6513-1775728800-1775736000@feldasgtiang.nadi.my
SUMMARY:LIVE WEBINAR :PEMASARAN
DESCRIPTION:
URL:https://feldasgtiang.nadi.my/event/loive-webinar-pemasaran/
END:VEVENT
BEGIN:VEVENT
DTSTART;TZID=Asia/Kuala_Lumpur:20260409T150000
DTEND;TZID=Asia/Kuala_Lumpur:20260409T160000
DTSTAMP:20260420T051245
CREATED:20260401T022159Z
LAST-MODIFIED:20260401T022210Z
UID:6502-1775746800-1775750400@feldasgtiang.nadi.my
SUMMARY:CYBERSECURITY : CARA MENJAGA KESELAMATAN CCTV DAN WIFI RUMAH DARI DIGODAM
DESCRIPTION:
URL:https://feldasgtiang.nadi.my/event/cybersecurity-cara-menjaga-keselamatan-cctv-dan-wifi-rumah-dari-digodam/
END:VEVENT
BEGIN:VEVENT
DTSTART;TZID=Asia/Kuala_Lumpur:20260410T100000
DTEND;TZID=Asia/Kuala_Lumpur:20260412T170000
DTSTAMP:20260420T051245
CREATED:20260407T034834Z
LAST-MODIFIED:20260407T034836Z
UID:6547-1775815200-1776013200@feldasgtiang.nadi.my
SUMMARY:ESPORTS : PENGURUSAN KONFLIK DALAM PASUKAN
DESCRIPTION:
URL:https://feldasgtiang.nadi.my/event/esports-pengurusan-konflik-dalam-pasukan/
END:VEVENT
BEGIN:VEVENT
DTSTART;TZID=Asia/Kuala_Lumpur:20260411T150000
DTEND;TZID=Asia/Kuala_Lumpur:20260411T163000
DTSTAMP:20260420T051245
CREATED:20260407T035119Z
LAST-MODIFIED:20260407T035121Z
UID:6549-1775919600-1775925000@feldasgtiang.nadi.my
SUMMARY:WEBINAR BERKALA BAHASA MELAYU EDISI 5
DESCRIPTION:
URL:https://feldasgtiang.nadi.my/event/webinar-berkala-bahasa-melayu-edisi-5/
END:VEVENT
BEGIN:VEVENT
DTSTART;TZID=Asia/Kuala_Lumpur:20260413T153000
DTEND;TZID=Asia/Kuala_Lumpur:20260413T163000
DTSTAMP:20260420T051245
CREATED:20260407T040114Z
LAST-MODIFIED:20260407T040554Z
UID:6557-1776094200-1776097800@feldasgtiang.nadi.my
SUMMARY:OPEN TUITION SEJARAH FORM 1-5
DESCRIPTION:
URL:https://feldasgtiang.nadi.my/event/open-tuition-sejarah-form-1-5/
END:VEVENT
BEGIN:VEVENT
DTSTART;TZID=Asia/Kuala_Lumpur:20260414T140000
DTEND;TZID=Asia/Kuala_Lumpur:20260414T160000
DTSTAMP:20260420T051245
CREATED:20260402T041142Z
LAST-MODIFIED:20260402T041144Z
UID:6515-1776175200-1776182400@feldasgtiang.nadi.my
SUMMARY:VIDEO PRA LATIHAN : OPERASI PERNIAGAAN
DESCRIPTION:
URL:https://feldasgtiang.nadi.my/event/video-pra-latihan-operasi-perniagaan/
END:VEVENT
BEGIN:VEVENT
DTSTART;TZID=Asia/Kuala_Lumpur:20260414T140000
DTEND;TZID=Asia/Kuala_Lumpur:20260414T160000
DTSTAMP:20260420T051245
CREATED:20260402T041223Z
LAST-MODIFIED:20260402T041226Z
UID:6517-1776175200-1776182400@feldasgtiang.nadi.my
SUMMARY:RAKAMAN WEBINAR:PEMASARAN
DESCRIPTION:
URL:https://feldasgtiang.nadi.my/event/rakaman-webinarpemasaran/
END:VEVENT
BEGIN:VEVENT
DTSTART;TZID=Asia/Kuala_Lumpur:20260416T100000
DTEND;TZID=Asia/Kuala_Lumpur:20260416T120000
DTSTAMP:20260420T051245
CREATED:20260402T041302Z
LAST-MODIFIED:20260402T041302Z
UID:6519-1776333600-1776340800@feldasgtiang.nadi.my
SUMMARY:LIVE WEBINAR : OPERASI PERNIAGAAN
DESCRIPTION:
URL:https://feldasgtiang.nadi.my/event/live-webinar-operasi-perniagaan/
END:VEVENT
BEGIN:VEVENT
DTSTART;TZID=Asia/Kuala_Lumpur:20260418T141500
DTEND;TZID=Asia/Kuala_Lumpur:20260418T151500
DTSTAMP:20260420T051245
CREATED:20260407T035417Z
LAST-MODIFIED:20260407T035421Z
UID:6551-1776521700-1776525300@feldasgtiang.nadi.my
SUMMARY:GUIDANCE TUITION SEJARAH FORM 5
DESCRIPTION:
URL:https://feldasgtiang.nadi.my/event/guidance-tuition-sejarah-form-5/
END:VEVENT
BEGIN:VEVENT
DTSTART;TZID=Asia/Kuala_Lumpur:20260418T153000
DTEND;TZID=Asia/Kuala_Lumpur:20260418T163000
DTSTAMP:20260420T051245
CREATED:20260407T035800Z
LAST-MODIFIED:20260407T035803Z
UID:6555-1776526200-1776529800@feldasgtiang.nadi.my
SUMMARY:GUIDANCE TUITION MATEMATIK FORM 5
DESCRIPTION:
URL:https://feldasgtiang.nadi.my/event/guidance-tuition-matematik-form-5-2/
END:VEVENT
BEGIN:VEVENT
DTSTART;TZID=Asia/Kuala_Lumpur:20260421T140000
DTEND;TZID=Asia/Kuala_Lumpur:20260421T160000
DTSTAMP:20260420T051245
CREATED:20260402T041341Z
LAST-MODIFIED:20260402T041342Z
UID:6521-1776780000-1776787200@feldasgtiang.nadi.my
SUMMARY:RAKAMAN WEBINAR :OPERASI PERNIAGAAN
DESCRIPTION:
URL:https://feldasgtiang.nadi.my/event/rakaman-webinar-operasi-perniagaan/
END:VEVENT
BEGIN:VEVENT
DTSTART;TZID=Asia/Kuala_Lumpur:20260423T100000
DTEND;TZID=Asia/Kuala_Lumpur:20260423T120000
DTSTAMP:20260420T051245
CREATED:20260402T041438Z
LAST-MODIFIED:20260402T041441Z
UID:6523-1776938400-1776945600@feldasgtiang.nadi.my
SUMMARY:LIVE WEBINAR : PERANCANGAN KEWANGAN
DESCRIPTION:
URL:https://feldasgtiang.nadi.my/event/live-webinar-perancangan-kewangan/
END:VEVENT
BEGIN:VEVENT
DTSTART;TZID=Asia/Kuala_Lumpur:20260428T140000
DTEND;TZID=Asia/Kuala_Lumpur:20260428T150000
DTSTAMP:20260420T051245
CREATED:20260402T041536Z
LAST-MODIFIED:20260402T041537Z
UID:6525-1777384800-1777388400@feldasgtiang.nadi.my
SUMMARY:RAKAMAN WEBINAR : PERANCANGAN KEWANGAN
DESCRIPTION:
URL:https://feldasgtiang.nadi.my/event/rakaman-webinar-perancangan-kewangan/
END:VEVENT
BEGIN:VEVENT
DTSTART;TZID=Asia/Kuala_Lumpur:20260430T140000
DTEND;TZID=Asia/Kuala_Lumpur:20260430T150000
DTSTAMP:20260420T051245
CREATED:20260402T041621Z
LAST-MODIFIED:20260402T041623Z
UID:6527-1777557600-1777561200@feldasgtiang.nadi.my
SUMMARY:VIDEO PASCA LATIHAN :PEMASARAN
DESCRIPTION:
URL:https://feldasgtiang.nadi.my/event/video-pasca-latihan-pemasaran/
END:VEVENT
BEGIN:VEVENT
DTSTART;TZID=Asia/Kuala_Lumpur:20260430T140000
DTEND;TZID=Asia/Kuala_Lumpur:20260430T150000
DTSTAMP:20260420T051245
CREATED:20260402T041702Z
LAST-MODIFIED:20260402T041702Z
UID:6529-1777557600-1777561200@feldasgtiang.nadi.my
SUMMARY:VIDEO PASCA LATIHAN : OPERASI KEWANGAN
DESCRIPTION:
URL:https://feldasgtiang.nadi.my/event/video-pasca-latihan-operasi-kewangan/
END:VEVENT
END:VCALENDAR