BEGIN:VCALENDAR
VERSION:2.0
PRODID:-//NADI Felda Sungai Tiang - ECPv6.15.20//NONSGML v1.0//EN
CALSCALE:GREGORIAN
METHOD:PUBLISH
X-WR-CALNAME:NADI Felda Sungai Tiang
X-ORIGINAL-URL:https://feldasgtiang.nadi.my
X-WR-CALDESC:Events for NADI Felda Sungai Tiang
REFRESH-INTERVAL;VALUE=DURATION:PT1H
X-Robots-Tag:noindex
X-PUBLISHED-TTL:PT1H
BEGIN:VTIMEZONE
TZID:UTC
BEGIN:STANDARD
TZOFFSETFROM:+0000
TZOFFSETTO:+0000
TZNAME:UTC
DTSTART:20190101T000000
END:STANDARD
END:VTIMEZONE
BEGIN:VEVENT
DTSTART;TZID=UTC:20201105T100000
DTEND;TZID=UTC:20201105T130000
DTSTAMP:20260421T093754
CREATED:20201029T234740Z
LAST-MODIFIED:20201029T234740Z
UID:3976-1604570400-1604581200@feldasgtiang.nadi.my
SUMMARY:ADVOKASI KLIK DENGAN BIJAK BERSAMA SEK.KEB.PAYA MAK INSUN
DESCRIPTION:TARIKH: 5 NOVEMBER 2020 \nTEMPAT: SEK.KEB.PAYA MAK INSUN
URL:https://feldasgtiang.nadi.my/event/advokasi-klik-dengan-bijak-bersama-sek-keb-paya-mak-insun/
CATEGORIES:DEFAULT
END:VEVENT
BEGIN:VEVENT
DTSTART;TZID=UTC:20201112T100000
DTEND;TZID=UTC:20201112T120000
DTSTAMP:20260421T093754
CREATED:20201029T234916Z
LAST-MODIFIED:20201029T234916Z
UID:3977-1605175200-1605182400@feldasgtiang.nadi.my
SUMMARY:LATIHAN KEUSAHAWANAN
DESCRIPTION:TARIKH: 12 NOVEMBER 2020 \nTEMPAT: PUSAT INTERNET FELDA SUNGAI TIANG
URL:https://feldasgtiang.nadi.my/event/latihan-keusahawanan-32/
CATEGORIES:DEFAULT
END:VEVENT
BEGIN:VEVENT
DTSTART;TZID=UTC:20201113T100000
DTEND;TZID=UTC:20201113T120000
DTSTAMP:20260421T093754
CREATED:20201029T235052Z
LAST-MODIFIED:20201029T235052Z
UID:3978-1605261600-1605268800@feldasgtiang.nadi.my
SUMMARY:WEBSITE(VLOG)
DESCRIPTION:TARIKH: 13 NOVEMBER 2020 \nTEMPAT: PUSAT INTERNET FELDA SUNGAI TIANG
URL:https://feldasgtiang.nadi.my/event/websitevlog/
CATEGORIES:DEFAULT
END:VEVENT
BEGIN:VEVENT
DTSTART;TZID=UTC:20201120T100000
DTEND;TZID=UTC:20201120T120000
DTSTAMP:20260421T093754
CREATED:20201029T235314Z
LAST-MODIFIED:20201029T235314Z
UID:3979-1605866400-1605873600@feldasgtiang.nadi.my
SUMMARY:PERKAKASAN KOMPUTER
DESCRIPTION:TARIKH: 20 NOVEMBER 2020 \nTEMPAT: PUSAT INTERNET FELDA SUNGAI TIANG
URL:https://feldasgtiang.nadi.my/event/perkakasan-komputer-2/
CATEGORIES:DEFAULT
END:VEVENT
BEGIN:VEVENT
DTSTART;TZID=UTC:20201121T100000
DTEND;TZID=UTC:20201121T120000
DTSTAMP:20260421T093754
CREATED:20201029T235553Z
LAST-MODIFIED:20201029T235553Z
UID:3980-1605952800-1605960000@feldasgtiang.nadi.my
SUMMARY:LESTARI ICT BERSAMA KOMUNITI PI BUKIT RAYA DALAM
DESCRIPTION:TARIKH: 21 NOVEMBER 2020 \nTEMPAT: BUKIT RAYA DALAM
URL:https://feldasgtiang.nadi.my/event/lestari-ict-bersama-komuniti-pi-bukit-raya-dalam/
CATEGORIES:DEFAULT
END:VEVENT
BEGIN:VEVENT
DTSTART;TZID=UTC:20201126T100000
DTEND;TZID=UTC:20201126T120000
DTSTAMP:20260421T093754
CREATED:20201029T235808Z
LAST-MODIFIED:20201029T235808Z
UID:3981-1606384800-1606392000@feldasgtiang.nadi.my
SUMMARY:E-PEMBELAJARAN (KUIZ)
DESCRIPTION:TARIKH: 26 NOVEMBER 2020 \nTEMPAT: SEKOLAH MENENGAH KEBANGSAAN SUNGAIN TIANG
URL:https://feldasgtiang.nadi.my/event/e-pembelajaran-kuiz-3/
CATEGORIES:DEFAULT
END:VEVENT
BEGIN:VEVENT
DTSTART;TZID=UTC:20201127T100000
DTEND;TZID=UTC:20201127T120000
DTSTAMP:20260421T093754
CREATED:20201030T000049Z
LAST-MODIFIED:20201030T000049Z
UID:3982-1606471200-1606478400@feldasgtiang.nadi.my
SUMMARY:MICROSOFT PUBLISHER
DESCRIPTION:TARIKH: 27 NOVEMBER 2020 \nTEMPAT: PUSAT INTERNET FELDA SUNGAI TIANG
URL:https://feldasgtiang.nadi.my/event/microsoft-publisher-3/
CATEGORIES:DEFAULT
END:VEVENT
BEGIN:VEVENT
DTSTART;TZID=UTC:20201128T100000
DTEND;TZID=UTC:20201128T120000
DTSTAMP:20260421T093754
CREATED:20201030T000200Z
LAST-MODIFIED:20201030T000200Z
UID:3983-1606557600-1606564800@feldasgtiang.nadi.my
SUMMARY:E-PEMBELAJARAN (APLIKASI PEMBELAJARAN)
DESCRIPTION:TARIKH: 28 NOVEMBER 2020 \nTEEMPAT: PUSAT INTERNET FELDA SUNGAI TIANG
URL:https://feldasgtiang.nadi.my/event/e-pembelajaran-aplikasi-pembelajaran-12/
CATEGORIES:DEFAULT
END:VEVENT
END:VCALENDAR