BEGIN:VCALENDAR
VERSION:2.0
PRODID:-//NADI Felda Sungai Tiang - ECPv6.15.20//NONSGML v1.0//EN
CALSCALE:GREGORIAN
METHOD:PUBLISH
X-ORIGINAL-URL:https://feldasgtiang.nadi.my
X-WR-CALDESC:Events for NADI Felda Sungai Tiang
REFRESH-INTERVAL;VALUE=DURATION:PT1H
X-Robots-Tag:noindex
X-PUBLISHED-TTL:PT1H
BEGIN:VTIMEZONE
TZID:UTC
BEGIN:STANDARD
TZOFFSETFROM:+0000
TZOFFSETTO:+0000
TZNAME:UTC
DTSTART:20200101T000000
END:STANDARD
END:VTIMEZONE
BEGIN:VEVENT
DTSTART;TZID=UTC:20210204T150000
DTEND;TZID=UTC:20210204T170000
DTSTAMP:20260420T051330
CREATED:20210213T235543Z
LAST-MODIFIED:20210213T235543Z
UID:3992-1612450800-1612458000@feldasgtiang.nadi.my
SUMMARY:LATIHAN KEUSAHAWANAN
DESCRIPTION:Tarikh  : 4 Februari 2021 \nMasa  : 3.00 Petang hingga 5.00 Petang
URL:https://feldasgtiang.nadi.my/event/latihan-keusahawanan-34/
LOCATION:PUSAT INTERNET FELDA SUNGAI TIANG\, PUSAT INTERNET FELDA SUNGAI TIANG
CATEGORIES:DEFAULT
END:VEVENT
BEGIN:VEVENT
DTSTART;TZID=UTC:20210211T090000
DTEND;TZID=UTC:20210211T130000
DTSTAMP:20260420T051330
CREATED:20210213T235835Z
LAST-MODIFIED:20210213T235835Z
UID:3993-1613034000-1613048400@feldasgtiang.nadi.my
SUMMARY:ASAS TEKNOLOGI MAKLUMAT&KOMUNIKASI (EMEL)
DESCRIPTION:Tarikh : 11 Februari 2021 \nMasa :  9.00 Pagi hingga 1 Petang
URL:https://feldasgtiang.nadi.my/event/asas-teknologi-maklumatkomunikasi-emel/
LOCATION:SMK SUNGAI TIANG\, SMK SUNGAI TIANG
CATEGORIES:DEFAULT
END:VEVENT
BEGIN:VEVENT
DTSTART;TZID=UTC:20210219T110000
DTEND;TZID=UTC:20210219T120000
DTSTAMP:20260420T051330
CREATED:20210214T000347Z
LAST-MODIFIED:20210214T000347Z
UID:3994-1613732400-1613736000@feldasgtiang.nadi.my
SUMMARY:MICROSOFT OFFICE(WORD)
DESCRIPTION:Tarikh : 19 Februari 2021 \nMasa : 10.00 Pagi hingga 12.00 Tengahari
URL:https://feldasgtiang.nadi.my/event/microsoft-officeword-6/
LOCATION:PUSAT INTERNET FELDA SUNGAI TIANG\, PUSAT INTERNET FELDA SUNGAI TIANG
CATEGORIES:DEFAULT
END:VEVENT
BEGIN:VEVENT
DTSTART;TZID=UTC:20210220T100000
DTEND;TZID=UTC:20210220T120000
DTSTAMP:20260420T051330
CREATED:20210214T000616Z
LAST-MODIFIED:20210214T000616Z
UID:3995-1613815200-1613822400@feldasgtiang.nadi.my
SUMMARY:E-PEMBELAJARAN (PERMAINAN PENDIDIKAN)
DESCRIPTION:Tarikh : 20 Februari 2021 \nMasa : 10.00 Pagi hingga 12.00 Tengahari
URL:https://feldasgtiang.nadi.my/event/e-pembelajaran-permainan-pendidikan-15/
LOCATION:PUSAT INTERNET FELDA SUNGAI TIANG\, PUSAT INTERNET FELDA SUNGAI TIANG
CATEGORIES:DEFAULT
END:VEVENT
BEGIN:VEVENT
DTSTART;TZID=UTC:20210225T100000
DTEND;TZID=UTC:20210225T130000
DTSTAMP:20260420T051330
CREATED:20210214T000850Z
LAST-MODIFIED:20210214T000850Z
UID:3997-1614247200-1614258000@feldasgtiang.nadi.my
SUMMARY:BICARA SANTAI KDB (CHILD-GROOMING)
DESCRIPTION:Tarikh : 25 Februari 2021 \nMasa : 10.00 Pagi hingga 1.00 Petang
URL:https://feldasgtiang.nadi.my/event/bicara-santai-kdb-child-grooming/
LOCATION:PUSAT INTERNET PONDOK CHEGAR\, PUSAT INTERNET PONDOK CHEGAR
CATEGORIES:DEFAULT
END:VEVENT
BEGIN:VEVENT
DTSTART;TZID=UTC:20210226T100000
DTEND;TZID=UTC:20210226T120000
DTSTAMP:20260420T051330
CREATED:20210214T001107Z
LAST-MODIFIED:20210214T001107Z
UID:3998-1614333600-1614340800@feldasgtiang.nadi.my
SUMMARY:MICROSOFT OFFICE(EXCEL)
DESCRIPTION:Tarikh : 26 Februari 2021 \nMasa : 10.00 Pagi hingga 12.00 Tengahari
URL:https://feldasgtiang.nadi.my/event/microsoft-officeexcel-3/
LOCATION:PUSAT INTERNET FELDA SUNGAI TIANG\, PUSAT INTERNET FELDA SUNGAI TIANG
CATEGORIES:DEFAULT
END:VEVENT
BEGIN:VEVENT
DTSTART;TZID=UTC:20210227T150000
DTEND;TZID=UTC:20210227T170000
DTSTAMP:20260420T051330
CREATED:20210214T001503Z
LAST-MODIFIED:20210214T001503Z
UID:3999-1614438000-1614445200@feldasgtiang.nadi.my
SUMMARY:E-PEMBELAJARAN (TUTORIAL)
DESCRIPTION:Tarikh : 27 Februari 2021 \nMasa : 3.00 Petang hingga 5.00 Petang
URL:https://feldasgtiang.nadi.my/event/e-pembelajaran-tutorial-8/
CATEGORIES:DEFAULT
END:VEVENT
END:VCALENDAR