BEGIN:VCALENDAR
VERSION:2.0
PRODID:-//NADI Felda Sungai Tiang - ECPv6.15.20//NONSGML v1.0//EN
CALSCALE:GREGORIAN
METHOD:PUBLISH
X-WR-CALNAME:NADI Felda Sungai Tiang
X-ORIGINAL-URL:https://feldasgtiang.nadi.my
X-WR-CALDESC:Events for NADI Felda Sungai Tiang
REFRESH-INTERVAL;VALUE=DURATION:PT1H
X-Robots-Tag:noindex
X-PUBLISHED-TTL:PT1H
BEGIN:VTIMEZONE
TZID:Asia/Kuala_Lumpur
BEGIN:STANDARD
TZOFFSETFROM:+0800
TZOFFSETTO:+0800
TZNAME:+08
DTSTART:20250101T000000
END:STANDARD
END:VTIMEZONE
BEGIN:VEVENT
DTSTART;TZID=Asia/Kuala_Lumpur:20260102T103000
DTEND;TZID=Asia/Kuala_Lumpur:20260102T233000
DTSTAMP:20260426T122931
CREATED:20260102T023338Z
LAST-MODIFIED:20260102T023338Z
UID:6149-1767349800-1767396600@feldasgtiang.nadi.my
SUMMARY:NADI-CARE: Bila Test Kit Dua Garis – Kehamilan Remaja Dari Sudut Pakar O&G
DESCRIPTION:
URL:https://feldasgtiang.nadi.my/event/nadi-care-bila-test-kit-dua-garis-kehamilan-remaja-dari-sudut-pakar-og/
END:VEVENT
BEGIN:VEVENT
DTSTART;TZID=Asia/Kuala_Lumpur:20260103T143000
DTEND;TZID=Asia/Kuala_Lumpur:20260103T163000
DTSTAMP:20260426T122931
CREATED:20260103T062600Z
LAST-MODIFIED:20260103T062600Z
UID:6169-1767450600-1767457800@feldasgtiang.nadi.my
SUMMARY:WEBINAR BERKALA SAINS EDISI 1 TINGKATAN 1
DESCRIPTION:
URL:https://feldasgtiang.nadi.my/event/webinar-berkala-sains-edisi-1-tingkatan-1/
END:VEVENT
BEGIN:VEVENT
DTSTART;TZID=Asia/Kuala_Lumpur:20260104T153000
DTEND;TZID=Asia/Kuala_Lumpur:20260104T163000
DTSTAMP:20260426T122931
CREATED:20260103T064646Z
LAST-MODIFIED:20260103T064646Z
UID:6167-1767540600-1767544200@feldasgtiang.nadi.my
SUMMARY:GUIDANCE TUITION MATEMATIK TINGKATAN 4
DESCRIPTION:
URL:https://feldasgtiang.nadi.my/event/guidance-tuition-matematik-tingkatan-4/
END:VEVENT
BEGIN:VEVENT
DTSTART;TZID=Asia/Kuala_Lumpur:20260105T091500
DTEND;TZID=Asia/Kuala_Lumpur:20260105T101500
DTSTAMP:20260426T122931
CREATED:20260116T084211Z
LAST-MODIFIED:20260116T084213Z
UID:6260-1767604500-1767608100@feldasgtiang.nadi.my
SUMMARY:DILEA OPEN TUITION MATEMATIK
DESCRIPTION:
URL:https://feldasgtiang.nadi.my/event/dilea-open-tuition-matematik/
END:VEVENT
BEGIN:VEVENT
DTSTART;TZID=Asia/Kuala_Lumpur:20260106T091500
DTEND;TZID=Asia/Kuala_Lumpur:20260106T101500
DTSTAMP:20260426T122931
CREATED:20260116T084256Z
LAST-MODIFIED:20260116T084258Z
UID:6262-1767690900-1767694500@feldasgtiang.nadi.my
SUMMARY:DILEA OPEN TUITION BAHASA INGGERIS
DESCRIPTION:
URL:https://feldasgtiang.nadi.my/event/dilea-open-tuition-bahasa-inggeris/
END:VEVENT
BEGIN:VEVENT
DTSTART;TZID=Asia/Kuala_Lumpur:20260108T093000
DTEND;TZID=Asia/Kuala_Lumpur:20260108T223000
DTSTAMP:20260426T122931
CREATED:20260109T041329Z
LAST-MODIFIED:20260109T041332Z
UID:6191-1767864600-1767911400@feldasgtiang.nadi.my
SUMMARY:DILEA OPEN TUITION BAHASA MELAYU
DESCRIPTION:
URL:https://feldasgtiang.nadi.my/event/dilea-open-tuition-bahasa-melayu/
END:VEVENT
BEGIN:VEVENT
DTSTART;TZID=Asia/Kuala_Lumpur:20260108T100000
DTEND;TZID=Asia/Kuala_Lumpur:20260108T113000
DTSTAMP:20260426T122931
CREATED:20260103T064918Z
LAST-MODIFIED:20260103T064918Z
UID:6173-1767866400-1767871800@feldasgtiang.nadi.my
SUMMARY:FORUM MAHIR BERSAMA KOMUNITI
DESCRIPTION:
URL:https://feldasgtiang.nadi.my/event/forum-mahir-bersama-komuniti/
END:VEVENT
BEGIN:VEVENT
DTSTART;TZID=Asia/Kuala_Lumpur:20260109T100000
DTEND;TZID=Asia/Kuala_Lumpur:20260109T170000
DTSTAMP:20260426T122931
CREATED:20260109T041510Z
LAST-MODIFIED:20260109T041516Z
UID:6195-1767952800-1767978000@feldasgtiang.nadi.my
SUMMARY:PENGENALAN E-SUKAN: DARIPADA HOBI KEPADA PROGRAM KOMPETITIF BERSTRUKTUR
DESCRIPTION:
URL:https://feldasgtiang.nadi.my/event/pengenalan-e-sukan-daripada-hobi-kepada-program-kompetitif-berstruktur/
END:VEVENT
BEGIN:VEVENT
DTSTART;TZID=Asia/Kuala_Lumpur:20260109T103000
DTEND;TZID=Asia/Kuala_Lumpur:20260109T233000
DTSTAMP:20260426T122931
CREATED:20260109T041440Z
LAST-MODIFIED:20260109T041440Z
UID:6193-1767954600-1768001400@feldasgtiang.nadi.my
SUMMARY:WELLBEING : MLBB\, ROBLOX\, GENSHIN…NAK LEVEL UP DALAM GAME ATAU DALAM HIDUP?
DESCRIPTION:
URL:https://feldasgtiang.nadi.my/event/wellbeing-mlbb-roblox-genshinnak-level-up-dalam-game-atau-dalam-hidup/
END:VEVENT
BEGIN:VEVENT
DTSTART;TZID=Asia/Kuala_Lumpur:20260110T100000
DTEND;TZID=Asia/Kuala_Lumpur:20260110T233000
DTSTAMP:20260426T122931
CREATED:20260109T041704Z
LAST-MODIFIED:20260109T041706Z
UID:6199-1768039200-1768087800@feldasgtiang.nadi.my
SUMMARY:KIDVENTURE :WEBINAR ATAS TALIAN :PELAN PERNIAGAAN MINI 1
DESCRIPTION:
URL:https://feldasgtiang.nadi.my/event/kidventure-webinar-atas-talian-pelan-perniagaan-mini-1/
END:VEVENT
BEGIN:VEVENT
DTSTART;TZID=Asia/Kuala_Lumpur:20260111T100000
DTEND;TZID=Asia/Kuala_Lumpur:20260111T110000
DTSTAMP:20260426T122931
CREATED:20260116T083407Z
LAST-MODIFIED:20260116T083407Z
UID:6243-1768125600-1768129200@feldasgtiang.nadi.my
SUMMARY:NADI KEUSAHAWANAN : VIDEO PRA LATIHAN
DESCRIPTION:
URL:https://feldasgtiang.nadi.my/event/nadi-keusahawanan-video-pra-latihan/
END:VEVENT
BEGIN:VEVENT
DTSTART;TZID=Asia/Kuala_Lumpur:20260112T093000
DTEND;TZID=Asia/Kuala_Lumpur:20260112T103000
DTSTAMP:20260426T122931
CREATED:20260109T041610Z
LAST-MODIFIED:20260109T041610Z
UID:6197-1768210200-1768213800@feldasgtiang.nadi.my
SUMMARY:DILEA OPEN TUITION SEJARAH FORM 1-5
DESCRIPTION:
URL:https://feldasgtiang.nadi.my/event/dilea-open-tuition-sejarah-form-1-5/
END:VEVENT
BEGIN:VEVENT
DTSTART;TZID=Asia/Kuala_Lumpur:20260112T100000
DTEND;TZID=Asia/Kuala_Lumpur:20260112T170000
DTSTAMP:20260426T122931
CREATED:20260109T041839Z
LAST-MODIFIED:20260109T041843Z
UID:6201-1768212000-1768237200@feldasgtiang.nadi.my
SUMMARY:RAKAMAN WEBINAR & VIDEO PEMBELAJARAN : PELAN PERNIAGAAN MINI 1
DESCRIPTION:
URL:https://feldasgtiang.nadi.my/event/rakaman-webinar-video-pembelajaran-pelan-perniagaan-mini-1/
END:VEVENT
BEGIN:VEVENT
DTSTART;TZID=Asia/Kuala_Lumpur:20260112T150000
DTEND;TZID=Asia/Kuala_Lumpur:20260112T163000
DTSTAMP:20260426T122931
CREATED:20260112T071111Z
LAST-MODIFIED:20260112T071111Z
UID:6214-1768230000-1768235400@feldasgtiang.nadi.my
SUMMARY:MAHIR MASAK MINGGU 1: PENGENALAN KURSUS
DESCRIPTION:
URL:https://feldasgtiang.nadi.my/event/mahir-masak-minggu-1-pengenalan-kursus/
END:VEVENT
BEGIN:VEVENT
DTSTART;TZID=Asia/Kuala_Lumpur:20260113T093000
DTEND;TZID=Asia/Kuala_Lumpur:20260113T110000
DTSTAMP:20260426T122931
CREATED:20260112T071554Z
LAST-MODIFIED:20260112T071557Z
UID:6218-1768296600-1768302000@feldasgtiang.nadi.my
SUMMARY:MAHIR MASAK MINGGU 1 : PENGENALAN KURSUS
DESCRIPTION:
URL:https://feldasgtiang.nadi.my/event/mahir-masak-minggu-1-pengenalan-kursus-2/
END:VEVENT
BEGIN:VEVENT
DTSTART;TZID=Asia/Kuala_Lumpur:20260113T103000
DTEND;TZID=Asia/Kuala_Lumpur:20260113T110000
DTSTAMP:20260426T122931
CREATED:20260116T083500Z
LAST-MODIFIED:20260116T083506Z
UID:6245-1768300200-1768302000@feldasgtiang.nadi.my
SUMMARY:NADI KEUSAHAWANAN : VIDEO PRA LATIHAN (PERANCANGAN KEWANGAN)
DESCRIPTION:
URL:https://feldasgtiang.nadi.my/event/nadi-keusahawanan-video-pra-latihan-perancangan-kewangan/
END:VEVENT
BEGIN:VEVENT
DTSTART;TZID=Asia/Kuala_Lumpur:20260114T093000
DTEND;TZID=Asia/Kuala_Lumpur:20260114T110000
DTSTAMP:20260426T122931
CREATED:20260112T072611Z
LAST-MODIFIED:20260112T072615Z
UID:6228-1768383000-1768388400@feldasgtiang.nadi.my
SUMMARY:MAHIR BAIKI GAJET MINGGU 1 : PENGENALAN KURSUS
DESCRIPTION:
URL:https://feldasgtiang.nadi.my/event/mahir-baiki-gajet-minggu-1-pengenalan-kursus/
END:VEVENT
BEGIN:VEVENT
DTSTART;TZID=Asia/Kuala_Lumpur:20260115T091500
DTEND;TZID=Asia/Kuala_Lumpur:20260115T101500
DTSTAMP:20260426T122931
CREATED:20260112T071306Z
LAST-MODIFIED:20260112T071308Z
UID:6216-1768468500-1768472100@feldasgtiang.nadi.my
SUMMARY:DILEA OPEN TUITION SAINS FORM 1-5
DESCRIPTION:
URL:https://feldasgtiang.nadi.my/event/dilea-open-tuition-sains-form-1-5/
END:VEVENT
BEGIN:VEVENT
DTSTART;TZID=Asia/Kuala_Lumpur:20260115T100000
DTEND;TZID=Asia/Kuala_Lumpur:20260115T120000
DTSTAMP:20260426T122931
CREATED:20260116T083558Z
LAST-MODIFIED:20260116T083601Z
UID:6247-1768471200-1768478400@feldasgtiang.nadi.my
SUMMARY:NADI KEUSAHAWANAN : LIVE WEBINAR (PERANCANGAN PERNIAGAAN)
DESCRIPTION:
URL:https://feldasgtiang.nadi.my/event/nadi-keusahawanan-live-webinar-perancangan-perniagaan/
END:VEVENT
BEGIN:VEVENT
DTSTART;TZID=Asia/Kuala_Lumpur:20260115T150000
DTEND;TZID=Asia/Kuala_Lumpur:20260115T163000
DTSTAMP:20260426T122931
CREATED:20260112T072242Z
LAST-MODIFIED:20260112T072242Z
UID:6224-1768489200-1768494600@feldasgtiang.nadi.my
SUMMARY:CYBERSECURITY -ANCAMAN SIBER DALAM DUNIA DIGITAL
DESCRIPTION:
URL:https://feldasgtiang.nadi.my/event/cybersecurity-ancaman-siber-dalam-dunia-digital/
END:VEVENT
BEGIN:VEVENT
DTSTART;TZID=Asia/Kuala_Lumpur:20260116T093000
DTEND;TZID=Asia/Kuala_Lumpur:20260116T110000
DTSTAMP:20260426T122931
CREATED:20260112T071843Z
LAST-MODIFIED:20260112T071953Z
UID:6220-1768555800-1768561200@feldasgtiang.nadi.my
SUMMARY:MAHIR MASAK MINGGU 1 : PENGENALAN KURSUS
DESCRIPTION:
URL:https://feldasgtiang.nadi.my/event/mahir-gajet-minggu-1-pengenalan-kursus/
END:VEVENT
BEGIN:VEVENT
DTSTART;TZID=Asia/Kuala_Lumpur:20260116T100000
DTEND;TZID=Asia/Kuala_Lumpur:20260116T110000
DTSTAMP:20260426T122931
CREATED:20260116T083729Z
LAST-MODIFIED:20260116T083729Z
UID:6249-1768557600-1768561200@feldasgtiang.nadi.my
SUMMARY:NADI KEUSAHAWANAN : RAKAMAN WEBINAR(PERANCANGAN PERNIAGAAN)
DESCRIPTION:
URL:https://feldasgtiang.nadi.my/event/nadi-keusahawanan-rakaman-webinarperancangan-perniagaan/
END:VEVENT
BEGIN:VEVENT
DTSTART;TZID=Asia/Kuala_Lumpur:20260116T153000
DTEND;TZID=Asia/Kuala_Lumpur:20260116T160000
DTSTAMP:20260426T122931
CREATED:20260116T082714Z
LAST-MODIFIED:20260116T082720Z
UID:6230-1768577400-1768579200@feldasgtiang.nadi.my
SUMMARY:ESPORTS : ETIKA & SIKAP PEMAIN E-SUKAN
DESCRIPTION:
URL:https://feldasgtiang.nadi.my/event/esports-etika-sikap-pemain-e-sukan/
END:VEVENT
BEGIN:VEVENT
DTSTART;TZID=Asia/Kuala_Lumpur:20260120T100000
DTEND;TZID=Asia/Kuala_Lumpur:20260120T110000
DTSTAMP:20260426T122931
CREATED:20260116T082904Z
LAST-MODIFIED:20260116T083301Z
UID:6232-1768903200-1768906800@feldasgtiang.nadi.my
SUMMARY:E-KELAS USAHAWAN: STRATEGI PEMASARAN DIGITAL
DESCRIPTION:
URL:https://feldasgtiang.nadi.my/event/e-kelas-webinar-strategi-pemasaran-digital/
END:VEVENT
BEGIN:VEVENT
DTSTART;TZID=Asia/Kuala_Lumpur:20260122T100000
DTEND;TZID=Asia/Kuala_Lumpur:20260122T110000
DTSTAMP:20260426T122931
CREATED:20260116T082951Z
LAST-MODIFIED:20260116T083215Z
UID:6234-1769076000-1769079600@feldasgtiang.nadi.my
SUMMARY:E-KELAS USAHAWAN : ASAS KOMUNIKASI VISUAL
DESCRIPTION:
URL:https://feldasgtiang.nadi.my/event/e-kelas-asas-komunikasi-visual/
END:VEVENT
BEGIN:VEVENT
DTSTART;TZID=Asia/Kuala_Lumpur:20260122T100000
DTEND;TZID=Asia/Kuala_Lumpur:20260122T120000
DTSTAMP:20260426T122931
CREATED:20260116T083828Z
LAST-MODIFIED:20260116T083830Z
UID:6252-1769076000-1769083200@feldasgtiang.nadi.my
SUMMARY:NADI KEUSAHAWANAN : LIVE WEBINAR(PERANCANGAN KEWANGAN)
DESCRIPTION:
URL:https://feldasgtiang.nadi.my/event/nadi-keusahawanan-live-webinarperancangan-kewangan/
END:VEVENT
BEGIN:VEVENT
DTSTART;TZID=Asia/Kuala_Lumpur:20260122T150000
DTEND;TZID=Asia/Kuala_Lumpur:20260122T163000
DTSTAMP:20260426T122931
CREATED:20260112T072356Z
LAST-MODIFIED:20260112T072356Z
UID:6226-1769094000-1769099400@feldasgtiang.nadi.my
SUMMARY:CYBERSECURITY : SIRI CYBER HYGIENE
DESCRIPTION:
URL:https://feldasgtiang.nadi.my/event/cybersecurity-siri-cyber-hygiene/
END:VEVENT
BEGIN:VEVENT
DTSTART;TZID=Asia/Kuala_Lumpur:20260123T100000
DTEND;TZID=Asia/Kuala_Lumpur:20260123T120000
DTSTAMP:20260426T122931
CREATED:20260116T083909Z
LAST-MODIFIED:20260116T083910Z
UID:6254-1769162400-1769169600@feldasgtiang.nadi.my
SUMMARY:NADI KEUSAHAWANAN : RAKAMAN WEBINAR (PERANCANGAN KEWANGAN)
DESCRIPTION:
URL:https://feldasgtiang.nadi.my/event/nadi-keusahawanan-rakaman-webinar-perancangan-kewangan/
END:VEVENT
BEGIN:VEVENT
DTSTART;TZID=Asia/Kuala_Lumpur:20260124T100000
DTEND;TZID=Asia/Kuala_Lumpur:20260124T233000
DTSTAMP:20260426T122931
CREATED:20260109T041926Z
LAST-MODIFIED:20260109T041928Z
UID:6203-1769248800-1769297400@feldasgtiang.nadi.my
SUMMARY:WEBINAR ATAS TALIAN : PELAN PERNIAGAAN MINI 2
DESCRIPTION:
URL:https://feldasgtiang.nadi.my/event/webinar-atas-talian-pelan-perniagaan-mini-2/
END:VEVENT
BEGIN:VEVENT
DTSTART;TZID=Asia/Kuala_Lumpur:20260126T100000
DTEND;TZID=Asia/Kuala_Lumpur:20260126T170000
DTSTAMP:20260426T122931
CREATED:20260109T042004Z
LAST-MODIFIED:20260109T042006Z
UID:6205-1769421600-1769446800@feldasgtiang.nadi.my
SUMMARY:RAKAMAN WEBINAR & VIDEO PEMBELAJARAN PERNIAGAAN MINI 2
DESCRIPTION:
URL:https://feldasgtiang.nadi.my/event/rakaman-webinar-video-pembelajaran-perniagaan-mini-2/
END:VEVENT
END:VCALENDAR